BEGIN:VCALENDAR
VERSION:2.0
PRODID:-//SpArC Theatre - ECPv6.5.0//NONSGML v1.0//EN
CALSCALE:GREGORIAN
METHOD:PUBLISH
X-WR-CALNAME:SpArC Theatre
X-ORIGINAL-URL:http://www.sparctheatre.co.uk
X-WR-CALDESC:Events for SpArC Theatre
REFRESH-INTERVAL;VALUE=DURATION:PT1H
X-Robots-Tag:noindex
X-PUBLISHED-TTL:PT1H
BEGIN:VTIMEZONE
TZID:Europe/London
BEGIN:DAYLIGHT
TZOFFSETFROM:+0000
TZOFFSETTO:+0100
TZNAME:BST
DTSTART:20250330T010000
END:DAYLIGHT
BEGIN:STANDARD
TZOFFSETFROM:+0100
TZOFFSETTO:+0000
TZNAME:GMT
DTSTART:20251026T010000
END:STANDARD
END:VTIMEZONE
BEGIN:VEVENT
DTSTART;TZID=Europe/London:20250323T140000
DTEND;TZID=Europe/London:20250323T173000
DTSTAMP:20260425T222205
CREATED:20241029T141940Z
LAST-MODIFIED:20241029T144227Z
UID:5691-1742738400-1742751000@www.sparctheatre.co.uk
SUMMARY:The Royal Ballet: Romeo & Juliet
DESCRIPTION:Satellite Screening \nThe greatest love story ever told – through ballet all set to the incredible Prokofiev score \nThe Capulets and Montagues are sworn enemies. Yet it is love at first sight for Romeo Montague and Juliet Capulet when they meet each other at the Capulet ball\, into which Romeo has snuck. The two fall in love and they profess their devotion to each other at Juliet’s balcony. They secretly get married. The stakes are raised for the young couple when Romeo avenges the death of his friend Mercutio who has been killed by Tybalt\, Juliet’s cousin. For this\, Romeo is exiled from Verona. Meanwhile\, Juliet’s parents are forcing her to marry another suitor. In order to be together\, Romeo and Juliet must risk it all. \nRunning time 210 minutes\, Two intervals \nCHOREOGRAPHY Kenneth MacMillan \nMUSIC Sergey Prokofiev \nDESIGNER Nicholas Georgiadis \nLIGHTING DESIGNER John B. Rea
URL:http://www.sparctheatre.co.uk/event/the-royal-ballet-romeo-juliet/
LOCATION:SpArC Theatre
CATEGORIES:Art,Ballet,Music,Theatre
ATTACH;FMTTYPE=image/jpeg:http://www.sparctheatre.co.uk/wp/wp-content/uploads/2024/10/Romeo-and-Juliet.-Matthew-Ball-as-Romeo-Yasmine-Naghdi-as-Juliet.-©ROH-2015.-Photographed-by-Alice-Pennefather-5-scaled.jpg
END:VEVENT
END:VCALENDAR