BEGIN:VCALENDAR
VERSION:2.0
PRODID:-//SpArC Theatre - ECPv6.5.0//NONSGML v1.0//EN
CALSCALE:GREGORIAN
METHOD:PUBLISH
X-ORIGINAL-URL:http://www.sparctheatre.co.uk
X-WR-CALDESC:Events for SpArC Theatre
REFRESH-INTERVAL;VALUE=DURATION:PT1H
X-Robots-Tag:noindex
X-PUBLISHED-TTL:PT1H
BEGIN:VTIMEZONE
TZID:Europe/London
BEGIN:DAYLIGHT
TZOFFSETFROM:+0000
TZOFFSETTO:+0100
TZNAME:BST
DTSTART:20250330T010000
END:DAYLIGHT
BEGIN:STANDARD
TZOFFSETFROM:+0100
TZOFFSETTO:+0000
TZNAME:GMT
DTSTART:20251026T010000
END:STANDARD
END:VTIMEZONE
BEGIN:VEVENT
DTSTART;TZID=Europe/London:20250416T150000
DTEND;TZID=Europe/London:20250416T160000
DTSTAMP:20260425T210804
CREATED:20250209T140231Z
LAST-MODIFIED:20250501T094635Z
UID:5780-1744815600-1744819200@www.sparctheatre.co.uk
SUMMARY:LIVE THEATRE: Stories in Dust
DESCRIPTION:‘Elegant\, engaging eco-fable.’– The Reviews Hub –\n‘What a captivating and heart warming production\, every detail\, every lyric\, every word used was simply wonderful.’ Audience feedback   \nThe sun beats down on two travellers\, journeying across a mysterious land in a contraption they’ve built themselves. They sing\, play games\, and tell stories inspired by a collection of precious things they’ve gathered from a time gone by.  With live music and puppetry\, Stories in the Dust is a funny\, heartfelt and hopeful eco-fable that takes you to another world. A world where an ancient book guides your way\, a drop of rain changes everything and a mighty lion holds its secrets in an old clay pot. Will our intrepid explorers make it? They’re full of ideas and full of hope but dangerously low on baked beans.Stories in the Dust was originally created with support from MAST Mayflower Studios and shared at their Emergency Festival. It was developed thanks to public funding from National Lottery through Arts Council England in partnership with Pound Arts and Wiltshire Creative.The storyline and accompanying education pack were developed with support from Ian Williams\, Professor of Applied Environmental Science at Southampton University.\nLed by Wiltshire based performers and theatre makers Iona Johnson and Anna Harriott\, \nStories in the Dust is a play made with and for young people with the climate emergency at its core.  \n Ideal for ages 5-12 but suitable for all the family.\n\n\n\n\n\n  \n 
URL:http://www.sparctheatre.co.uk/event/live-theatre-stories-in-dust/
LOCATION:SpArC Theatre
CATEGORIES:Art,Music,Theatre
ATTACH;FMTTYPE=image/jpeg:http://www.sparctheatre.co.uk/wp/wp-content/uploads/2025/02/Stories-in-Dust-1.jpg
END:VEVENT
BEGIN:VEVENT
DTSTART;TZID=Europe/London:20250424T103000
DTEND;TZID=Europe/London:20250424T123000
DTSTAMP:20260425T210804
CREATED:20250310T170141Z
LAST-MODIFIED:20250310T170141Z
UID:5795-1745490600-1745497800@www.sparctheatre.co.uk
SUMMARY:The Tiger Who Came to Tea- Film & Spring Making Workshop
DESCRIPTION:Family Easter Holidays Film/ Workshop  – watch the charming animation The Tiger Who Came To Tea followed by Spring animal crafts.\n£3.50 per child or £6 for 2 children. \nAccompanying Adults FREE but please book a place so we know for seating and we would be grateful of a donation on the day if you want to make things too. \nAll ages welcome. Under 7’s must be accompanied.\n10.30-10.40- Arrive \n10.40-11.10- Watch The Tiger Who Came To Tea on the big SpArC Cinema Screen \n11.10-12.30 – Spring animal craft session
URL:http://www.sparctheatre.co.uk/event/the-tiger-who-came-to-tea-film-spring-making-workshop/
LOCATION:SpArC Theatre
CATEGORIES:Art,Film,Workshop
ATTACH;FMTTYPE=image/jpeg:http://www.sparctheatre.co.uk/wp/wp-content/uploads/2025/03/The-tiger-who-came-to-tea--scaled.jpg
END:VEVENT
END:VCALENDAR