BEGIN:VCALENDAR
VERSION:2.0
PRODID:-//SpArC Theatre - ECPv6.5.0//NONSGML v1.0//EN
CALSCALE:GREGORIAN
METHOD:PUBLISH
X-ORIGINAL-URL:http://www.sparctheatre.co.uk
X-WR-CALDESC:Events for SpArC Theatre
REFRESH-INTERVAL;VALUE=DURATION:PT1H
X-Robots-Tag:noindex
X-PUBLISHED-TTL:PT1H
BEGIN:VTIMEZONE
TZID:Europe/London
BEGIN:DAYLIGHT
TZOFFSETFROM:+0000
TZOFFSETTO:+0100
TZNAME:BST
DTSTART:20250330T010000
END:DAYLIGHT
BEGIN:STANDARD
TZOFFSETFROM:+0100
TZOFFSETTO:+0000
TZNAME:GMT
DTSTART:20251026T010000
END:STANDARD
END:VTIMEZONE
BEGIN:VEVENT
DTSTART;TZID=Europe/London:20251101T150000
DTEND;TZID=Europe/London:20251101T160000
DTSTAMP:20260425T115325
CREATED:20250811T102125Z
LAST-MODIFIED:20250811T102828Z
UID:5934-1762009200-1762012800@www.sparctheatre.co.uk
SUMMARY:LIVE THEATRE: Grandad Anansi
DESCRIPTION:  \n\nAn uplifting tale of love\, courage and letting go. \n“A colourful\, amazing production” The Guardian\n\nAbi and her Grandad tell each other Anansi folktales. They play games as they work together in the garden among the beautiful flowers and tasty vegetables. As they plant memories\, they share secrets and develop a bond that nothing can break. Grandad is as smart and mischievous as the wily Anansi legend. Can he find a way to tell his granddaughter about his plans to return to Jamaica\, his beloved homeland? \n   \n★★★★”Storytelling\, and its extraordinary power\, is at the centre of the piece” Sardines\nJoin our intrepid characters in this humorous and heartfelt intergenerational adventure\, as they step into the unexpected. With evocative live music\, Grandad Anansi is an uplifting tale of love\, courage and letting go. \nWritten by award-winning children’s author Elayne Ogbeta\, Grandad Anansi is a Half Moon and Z-arts co-production: an exciting collaboration by the UK’s leading small-scale young people’s venue and touring company and Manchester’s award-winning venue for children and families. \n“Half Moon are creating important\, beautiful and powerful work for young people” Children’s Theatre Reviews\n.
URL:http://www.sparctheatre.co.uk/event/live-theatre-grandad-anansi/
LOCATION:SpArC Theatre
CATEGORIES:Art,Music,Theatre
ATTACH;FMTTYPE=image/jpeg:http://www.sparctheatre.co.uk/wp/wp-content/uploads/2025/08/Grandad-anasai-3.jpg
END:VEVENT
BEGIN:VEVENT
DTSTART;TZID=Europe/London:20251120T193000
DTEND;TZID=Europe/London:20251120T213000
DTSTAMP:20260425T115325
CREATED:20250728T162104Z
LAST-MODIFIED:20251002T093019Z
UID:5911-1763667000-1763674200@www.sparctheatre.co.uk
SUMMARY:LIVE MUSIC : Širom
DESCRIPTION:“Širom fashion maximalist avant-garde soundscapes from antique acoustic instruments like the balafon and hurdy gurdy. Their artfully rootless roots music makes an impassioned statement both aesthetically and\, more opaquely\, politically too.”  — Uncut  \nThe Slovenian avant-folk trio Širom are back with a sonically and thematically expansive 5th album; a thrilling follow-up to their widely praised 2022 release The Liquified Throne of Simplicity. Navigating almost two dozen instruments (some of which they’ve handcrafted)\, and hypnotic compositions that often exceed ten minutes in length\, Ana Kravanja\, Iztok Koren and Samo Kutin court patient\, deep-dive listeners    via intricately woven atmospheres\, rhythms and sonics. \nIn the Wind of Night\, Hard-Fallen Incantations Whisper is arguably the sharpest evocation yet of the group’s highly collective music process\, enveloping rustic melodic folklore\, outernational textures\, non-linear song structures and dissonance\, and a buzzing ambiance that can at times feel like an ecstatic ritual.   \nFew experimental ensembles from the last decade have created an ouevre as singular and unmistakable as that of this far-sighted trio from the disparate landscapes of Slovenia. Širom truly sound like no one else.  \nAna Kravanja: violin\, viola\, ribab\, qeychak\, balafon\, frame drum\, chimes\, various objects\, percussion\, fipple flute\, voice \nIztok Koren: banjo\, three-string banjo\, gembri\, morin khuur\, balafon\, percussion \nSamo Kutin: hurdy gurdy\, bass harp\, harmonium\, lyres\, frame drum\, tampura brač\, brač\, lute\, chimes\, balafon\, acoustic resonator\, various objects\, voice \n  \nAdults £15 Under 18 £5 \nGroup Ticket 4 adults available £50
URL:http://www.sparctheatre.co.uk/event/live-music-sirom-2/
LOCATION:SpArC Theatre
CATEGORIES:Art,Music
ATTACH;FMTTYPE=image/jpeg:http://www.sparctheatre.co.uk/wp/wp-content/uploads/2025/07/sirom-25.jpg
END:VEVENT
END:VCALENDAR