BEGIN:VCALENDAR
VERSION:2.0
PRODID:-//SpArC Theatre - ECPv6.5.0//NONSGML v1.0//EN
CALSCALE:GREGORIAN
METHOD:PUBLISH
X-WR-CALNAME:SpArC Theatre
X-ORIGINAL-URL:http://www.sparctheatre.co.uk
X-WR-CALDESC:Events for SpArC Theatre
REFRESH-INTERVAL;VALUE=DURATION:PT1H
X-Robots-Tag:noindex
X-PUBLISHED-TTL:PT1H
BEGIN:VTIMEZONE
TZID:Europe/London
BEGIN:DAYLIGHT
TZOFFSETFROM:+0000
TZOFFSETTO:+0100
TZNAME:BST
DTSTART:20260329T010000
END:DAYLIGHT
BEGIN:STANDARD
TZOFFSETFROM:+0100
TZOFFSETTO:+0000
TZNAME:GMT
DTSTART:20261025T010000
END:STANDARD
END:VTIMEZONE
BEGIN:VEVENT
DTSTART;TZID=Europe/London:20260228T190000
DTEND;TZID=Europe/London:20260228T203000
DTSTAMP:20260421T200727
CREATED:20251117T160032Z
LAST-MODIFIED:20251117T170208Z
UID:6037-1772305200-1772310600@www.sparctheatre.co.uk
SUMMARY:Live Theatre: The Ballad of Mulan
DESCRIPTION:Grist to the Mill and Red Dragonfly Productions Presents The Ballad of Mulan \nThe real Chinese heroine than inspired Disney’s films \n \n‘If you love history and strong women\, this performance is for you.’Broadway Baby (on The Ballad Mulan) \n‘A brilliant performance… there is always new wisdom to be found even in the oldest of stories.’ British Theatre Guide (on The Ballad of Mulan) \n‘A powerful exploration of gender\, war\, and identity\, as relevant and timely today as ever’ Tupla Magazine (on The Ballad of Mulan) \n‘Forget the Disney version – If you want to see a powerful performance by a great actress\, and writer\, go and see ‘Mulan’. Better still – take your daughter!’ HIDDEN GEM – FringeReview (on The Ballad of Mulan) \nWoman\, warrior\, Legend. For ten years Mulan disguised as a man\, has fought for the Chinese Empire. Now the fighting is coming to an end\, one last battle and she will be going home – but can she return to her old life\, become a woman again. \nA search for identity in a violent world. From the team behind Edfringe Sell-Out ‘The Unknown Soldier’ Grist to the Mill and working in collaboration with British-East-Asian theatre company Red Dragonfly\, we bring you the real Chinese heroine that inspired Disney’s animation and live-feature Mulan. \nDon’t expect a fluffy Disney tale here\, this Mulan is visceral.  She is a warrior\, a fighter\, a woman who survived in a very male world for ten years without discovery.  There is no perfect make-up\, no singing animals\, just a gritty story of a soldier.  Michelle Yim (The Empress and Me and An Evening with Miss Wong) brings to life our heroine who\, to save her family’s honour\, disguised herself as a man and joined the Emperor’s army. \n \nCommissioned by British-born Chinese Michelle Yim and written by Ross Ericson\, whose play Casualties was nominated for an Off West End Award and whose solo WW1 show The Unknown Soldier officially sold out at Edinburgh Fringe 2016\, has returned to the original text\, the C6th Chinese poem on Mulan\, and tried to fill in the gaps to explore the true identity of one of the most revered women in China. \nThe Ballad Of Mulan is produced by British East Asian theatre company Red Dragonfly Productions and Grist to the Mill Productions\, who have championed new writing since 2012. The performance was developed with funding from Arts Council England. \n  \n  \n 
URL:http://www.sparctheatre.co.uk/event/live-theatre-the-ballad-of-mulan/
LOCATION:SpArC Theatre
CATEGORIES:Art,Theatre
ATTACH;FMTTYPE=image/jpeg:http://www.sparctheatre.co.uk/wp/wp-content/uploads/2025/11/MULAN-01-21-2025-171353-1908.jpg
END:VEVENT
END:VCALENDAR