BEGIN:VCALENDAR
VERSION:2.0
PRODID:-//SpArC Theatre - ECPv6.5.0//NONSGML v1.0//EN
CALSCALE:GREGORIAN
METHOD:PUBLISH
X-WR-CALNAME:SpArC Theatre
X-ORIGINAL-URL:http://www.sparctheatre.co.uk
X-WR-CALDESC:Events for SpArC Theatre
REFRESH-INTERVAL;VALUE=DURATION:PT1H
X-Robots-Tag:noindex
X-PUBLISHED-TTL:PT1H
BEGIN:VTIMEZONE
TZID:Europe/London
BEGIN:DAYLIGHT
TZOFFSETFROM:+0000
TZOFFSETTO:+0100
TZNAME:BST
DTSTART:20260329T010000
END:DAYLIGHT
BEGIN:STANDARD
TZOFFSETFROM:+0100
TZOFFSETTO:+0000
TZNAME:GMT
DTSTART:20261025T010000
END:STANDARD
END:VTIMEZONE
BEGIN:VEVENT
DTSTART;TZID=Europe/London:20260426T140000
DTEND;TZID=Europe/London:20260426T170000
DTSTAMP:20260421T155230
CREATED:20260212T183139Z
LAST-MODIFIED:20260331T133147Z
UID:6123-1777212000-1777222800@www.sparctheatre.co.uk
SUMMARY:ROB: THE MAGIC FLUTE ( Mozart)
DESCRIPTION:The Royal Opera \nTHE MAGIC FLUTE \n \nPrincess Pamina has been captured. Her mother\, the Queen of the Night\, tasks the young Prince Tamino with her daughter’s rescue. But when Tamino and his friendly sidekick\, Papageno\, embark on their adventure\, they soon learn that when it comes to the quest for love\, nothing is as it really seems. Guided by a magic flute\, they encounter monsters\, villains\, and a mysterious brotherhood of men – but help\, it turns out\, comes when you least expect it. \nMozart’s fantastical opera glitters in David McVicar’s enchanting production. A star cast including – Lucy Crowe is singing the role of Pamina\, Amitai Pati as Tamino\, Huw Montague Rendall as Papageno\, Kathryn Lewek as the Queen of the Night\, and Soloman Howard as Sarastro\, led by French conductor Marie Jacquot in her Covent Garden debut.
URL:http://www.sparctheatre.co.uk/event/rob-the-magic-flute-mozart/
LOCATION:Sparc Theatre\, Bishop's Castle\, United Kingdom
CATEGORIES:Art,Film,Music,Opera
ATTACH;FMTTYPE=image/jpeg:http://www.sparctheatre.co.uk/wp/wp-content/uploads/2026/02/Die-Zauberflote-29-10-19-ROH-340-scaled.jpg
END:VEVENT
END:VCALENDAR