BEGIN:VCALENDAR
VERSION:2.0
PRODID:-//SpArC Theatre - ECPv6.5.0//NONSGML v1.0//EN
CALSCALE:GREGORIAN
METHOD:PUBLISH
X-WR-CALNAME:SpArC Theatre
X-ORIGINAL-URL:http://www.sparctheatre.co.uk
X-WR-CALDESC:Events for SpArC Theatre
REFRESH-INTERVAL;VALUE=DURATION:PT1H
X-Robots-Tag:noindex
X-PUBLISHED-TTL:PT1H
BEGIN:VTIMEZONE
TZID:Europe/London
BEGIN:DAYLIGHT
TZOFFSETFROM:+0000
TZOFFSETTO:+0100
TZNAME:BST
DTSTART:20240331T010000
END:DAYLIGHT
BEGIN:STANDARD
TZOFFSETFROM:+0100
TZOFFSETTO:+0000
TZNAME:GMT
DTSTART:20241027T010000
END:STANDARD
END:VTIMEZONE
BEGIN:VEVENT
DTSTART;TZID=Europe/London:20241003T190000
DTEND;TZID=Europe/London:20241003T210000
DTSTAMP:20260419T222756
CREATED:20240819T081737Z
LAST-MODIFIED:20241029T150025Z
UID:5611-1727982000-1727989200@www.sparctheatre.co.uk
SUMMARY:FILM: Back to Black (15)
DESCRIPTION:  \n \nThe extraordinary story of Amy Winehouse’s early rise to fame and the making of her groundbreaking album\, Back to Black and the tumultuous relationship at the center of it. \n6.3IMDB
URL:http://www.sparctheatre.co.uk/event/film-back-to-black-15/
LOCATION:SpArC Theatre
CATEGORIES:Film,Music
ATTACH;FMTTYPE=image/jpeg:http://www.sparctheatre.co.uk/wp/wp-content/uploads/2024/08/Amy-front.jpg
END:VEVENT
BEGIN:VEVENT
DTSTART;TZID=Europe/London:20241010T190000
DTEND;TZID=Europe/London:20241010T205000
DTSTAMP:20260419T222756
CREATED:20240826T131723Z
LAST-MODIFIED:20241002T133909Z
UID:5614-1728586800-1728593400@www.sparctheatre.co.uk
SUMMARY:FILM: Blackbird Blackbird Blackberry (15)
DESCRIPTION:7.1 IMDB \n★★★★★” Elene Naveriani’s warm\, wise dramedy makes merry with a midlife crisis\nGeorgian film about a fearless 48-year-old heroine who has never wanted a husband\, preferring blackberry-picking\, cake and solitude. ” The Irish Times\n\n★★★★ “a marvellously tender story of loneliness and love” The Guardian\n\n“A New Life Beckons For a Late Bloomer in a Wry Georgian Charmer. A stoically independent Georgian woman in her late 40s experiences a gentle existential awakening during an affair with a local deliveryman in Elene Naveriani’s offbeat\, low-key drama.” Variety\n\nA near-death experience sparks an existential and sexual awakening for taciturn shop owner in Elene Naveriani’s enchanting film. \nIn Georgian with English Subtitles\n 
URL:http://www.sparctheatre.co.uk/event/film-blackbird-blackbird-blackberry-15/
LOCATION:SpArC Theatre
CATEGORIES:Film
ATTACH;FMTTYPE=image/jpeg:http://www.sparctheatre.co.uk/wp/wp-content/uploads/2024/08/Blackbird-Blackberry.jpg
END:VEVENT
BEGIN:VEVENT
DTSTART;TZID=Europe/London:20241015T140000
DTEND;TZID=Europe/London:20241015T154000
DTSTAMP:20260419T222756
CREATED:20240826T132156Z
LAST-MODIFIED:20240826T132156Z
UID:5617-1729000800-1729006800@www.sparctheatre.co.uk
SUMMARY:Afternoon Film: Nobody Has to Know (12A)
DESCRIPTION:  \n \nA farmhand working on a remote Scottish island suffers amnesia following a stroke. A lonely local woman\, taking care of him claims they were lovers before the accident. \nTickets £4 Carers FREE \nSupported by the Friends of Bishop’s Castle Community\, Care Home and Hospital. \nAccessible Cabaret seating/no steps/ hearing loop/ tea and biscuits £1/local Free Bus available
URL:http://www.sparctheatre.co.uk/event/afternoon-film-nobody-has-to-know-12a/
LOCATION:SpArC Theatre
CATEGORIES:Film
ATTACH;FMTTYPE=image/jpeg:http://www.sparctheatre.co.uk/wp/wp-content/uploads/2024/08/nobody-has-to-know-.jpg
END:VEVENT
BEGIN:VEVENT
DTSTART;TZID=Europe/London:20241017T190000
DTEND;TZID=Europe/London:20241017T203000
DTSTAMP:20260419T222756
CREATED:20240826T133157Z
LAST-MODIFIED:20240826T133157Z
UID:5620-1729191600-1729197000@www.sparctheatre.co.uk
SUMMARY:DOCUMENTARY FILM- John Singer Sargent- Fashion & Swagger
DESCRIPTION:  \n \n  \nJohn Singer Sargent is known as the greatest portrait artist of his era. \nWhat made his ‘swagger’ portraits remarkable was his power over his sitters\, what they wore and how they were presented to the audience. \nThrough interviews with curators\, contemporary fashionistas and style influencers\, Exhibition on Screen’s film will examine how Sargent’s unique practice has influenced modern art\, culture and fashion. \nFilmed at the Museum of Fine Arts\, Boston and the Tate Britain\, London\, the exhibition reveals Sargent’s power to express distinctive personalities\, power dynamics and gender identities during this fascinating period of cultural reinvention. \nAlongside 50 paintings by Sargent sit stunning items of clothing and accessories worn by his subjects\, drawing the audience into the artist’s studio. \nSargent’s sitters were often wealthy\, their clothes costly\, but what happens when you turn yourself over to the hands of a great artist? \nThe manufacture of public identity is as controversial and contested today as it was at the turn of the 20th century\, but somehow Sargent’s work transcends the social noise and captures an alluring truth with each brush stroke. \nStep into the glittering world of fashion\, scandal and shameless self-promotion that made John Singer Sargent the painter who defined an era. \nExplore the unique creative process of the late 19th century’s favourite portrait artist and the way in which his portraits captured the spirit of a vibrant and rapidly changing age. \n 
URL:http://www.sparctheatre.co.uk/event/documentary-film-john-singer-sargent-fashion-swagger/
LOCATION:SpArC Theatre
CATEGORIES:Art,Film
ATTACH;FMTTYPE=image/jpeg:http://www.sparctheatre.co.uk/wp/wp-content/uploads/2024/08/John-S-S-1.jpg
END:VEVENT
END:VCALENDAR