BEGIN:VCALENDAR
VERSION:2.0
PRODID:-//SpArC Theatre - ECPv6.5.0//NONSGML v1.0//EN
CALSCALE:GREGORIAN
METHOD:PUBLISH
X-WR-CALNAME:SpArC Theatre
X-ORIGINAL-URL:http://www.sparctheatre.co.uk
X-WR-CALDESC:Events for SpArC Theatre
REFRESH-INTERVAL;VALUE=DURATION:PT1H
X-Robots-Tag:noindex
X-PUBLISHED-TTL:PT1H
BEGIN:VTIMEZONE
TZID:Europe/London
BEGIN:DAYLIGHT
TZOFFSETFROM:+0000
TZOFFSETTO:+0100
TZNAME:BST
DTSTART:20240331T010000
END:DAYLIGHT
BEGIN:STANDARD
TZOFFSETFROM:+0100
TZOFFSETTO:+0000
TZNAME:GMT
DTSTART:20241027T010000
END:STANDARD
END:VTIMEZONE
BEGIN:VEVENT
DTSTART;TZID=Europe/London:20241217T140000
DTEND;TZID=Europe/London:20241217T154000
DTSTAMP:20260419T191555
CREATED:20241007T124607Z
LAST-MODIFIED:20241007T124648Z
UID:5678-1734444000-1734450000@www.sparctheatre.co.uk
SUMMARY:Afternoon Film: Last Christmas (12A)
DESCRIPTION:  \n \nYuletide Romance \n6.5IMDB \nNothing goes right for Kate. Working as an elf in a Christmas shop is not good for the wannabe singer. Then she meets Tom and life takes a new turn-  Staring Emelia Clarke\, Henry Golding With Emma Thompson  and Michelle Yeoh \nAndrew Ridgely from Wham even makes an appearance ! \nTickets £4 Carers FREE \nAccessible Cabaret seating/no steps/ Subtitles/ hearing loop/ tea and biscuits £1 \nlocal Free  Dial-a-ride Bus available: 01588 638350
URL:http://www.sparctheatre.co.uk/event/afternoon-film-last-christmas/
LOCATION:SpArC Theatre
CATEGORIES:Comedy,Film
ATTACH;FMTTYPE=image/jpeg:http://www.sparctheatre.co.uk/wp/wp-content/uploads/2024/10/last-Christmas.jpg
END:VEVENT
END:VCALENDAR