BEGIN:VCALENDAR
VERSION:2.0
PRODID:-//SpArC Theatre - ECPv6.5.0//NONSGML v1.0//EN
CALSCALE:GREGORIAN
METHOD:PUBLISH
X-WR-CALNAME:SpArC Theatre
X-ORIGINAL-URL:http://www.sparctheatre.co.uk
X-WR-CALDESC:Events for SpArC Theatre
REFRESH-INTERVAL;VALUE=DURATION:PT1H
X-Robots-Tag:noindex
X-PUBLISHED-TTL:PT1H
BEGIN:VTIMEZONE
TZID:Europe/London
BEGIN:DAYLIGHT
TZOFFSETFROM:+0000
TZOFFSETTO:+0100
TZNAME:BST
DTSTART:20250330T010000
END:DAYLIGHT
BEGIN:STANDARD
TZOFFSETFROM:+0100
TZOFFSETTO:+0000
TZNAME:GMT
DTSTART:20251026T010000
END:STANDARD
END:VTIMEZONE
BEGIN:VEVENT
DTSTART;TZID=Europe/London:20250116T190000
DTEND;TZID=Europe/London:20250116T210000
DTSTAMP:20260419T190410
CREATED:20241104T152513Z
LAST-MODIFIED:20241104T152545Z
UID:5696-1737054000-1737061200@www.sparctheatre.co.uk
SUMMARY:FILM: Perfect Days (PG)
DESCRIPTION:  \n \nIMDB: 7.9 \n★★★★ “A beautiful portrait of everyday life in Tokyo. This Oscar-nominated drama from Wim Wenders about a toilet cleaner’s daily life is a lovingly detailed character study. ” The Telegraph \nHirayama feels content with his life as a toilet cleaner in Tokyo. Outside of his structured routine\, he cherishes music on cassette tapes\, reads books and takes photos. Through unexpected encounters\, he reflects on finding beauty in the world. \n★★★★  “Wim Wenders’s zen Japanese drama is his best feature film in years. The German director makes a strong case for simple living with this achingly lovely tale starring Kōji Yakusho as a Tokyo public toilet cleaner who finds quiet joy in the world around him.” The Guardian \n\n★★★★ “Wim Wenders finds joy in Tokyo toilet attendant tale. The veteran filmmaker brings moments of real beauty to the gentle routine of one man’s life.” The FT
URL:http://www.sparctheatre.co.uk/event/5696/
LOCATION:SpArC Theatre
CATEGORIES:Film
ATTACH;FMTTYPE=image/jpeg:http://www.sparctheatre.co.uk/wp/wp-content/uploads/2024/11/perfect-days.jpg
END:VEVENT
BEGIN:VEVENT
DTSTART;TZID=Europe/London:20250121T140000
DTEND;TZID=Europe/London:20250121T160000
DTSTAMP:20260419T190410
CREATED:20241021T111849Z
LAST-MODIFIED:20241021T111849Z
UID:5684-1737468000-1737475200@www.sparctheatre.co.uk
SUMMARY:AFTERNOON FILM: Bright Star (PG)
DESCRIPTION:2009 period film  film about Nineteenth-century English poet\, John Keats and his dressmaking neighbor\, Fanny Brawne\, have total disregard for each other. An unlikely romance develops and they fall deeply in love near the end of his life. \n“Jane Campion’s marvellous ode to Keats is that rare thing – a biopic about a poet that does full justice to its subject” The Guardian  \n6.9 IMDB \n\n\n\n★★★★★” Jane Campion’s subtle and measured film about Keats. Jane Campion’s film starring Ben Whishaw as the poet and Abbie Cornish as his lover Fanny Brawne is the best of her career. “The Guardian  \n★★★★“A thing of beauty in itself “The Telegraph \n\n\n\nTickets £4 Carers FREE \nSupported by the Friends of Bishop’s Castle Community\, Care Home and Hospital. \nAccessible Cabaret seating/no steps/ hearing loop/ tea and biscuits £1/local Free Bus available \nFree Dial–a-ride bus service from Bishops Castle and Lydbury North please phone 01588 638350All Tickets £4 Accompanying Carers FREE
URL:http://www.sparctheatre.co.uk/event/afternoon-film-bright-star-pg/
LOCATION:SpArC Theatre
CATEGORIES:Film
ATTACH;FMTTYPE=image/jpeg:http://www.sparctheatre.co.uk/wp/wp-content/uploads/2024/10/Bright-Star-1.jpg
END:VEVENT
BEGIN:VEVENT
DTSTART;TZID=Europe/London:20250130T190000
DTEND;TZID=Europe/London:20250130T210000
DTSTAMP:20260419T190410
CREATED:20241216T191634Z
LAST-MODIFIED:20241216T191634Z
UID:5732-1738263600-1738270800@www.sparctheatre.co.uk
SUMMARY:FILM: The Outrun (15)
DESCRIPTION:★★★★ “Saoirse Ronan is mesmerising ” The Guardian \nadaptation of the 2016 acclaimed memoir by Amy Liptrot \nAfter living life on the edge in London\, Rona attempts to come to terms with her troubled past. She returns to the wild beauty of Scotland’s Orkney Islands where she grew up\, hoping to heal. \n\n\n\n★★★★★” a stunningly filmed and incredibly powerful look at how addiction can tear you apart from the inside\, and the difficulties involved in overcoming it. It is also a deeply respectful and moving portrait of rediscovering home. Ronan is utterly astonishing in the best role of her career\, throughout a film that more than lives up to her talent\, and which puts Orkney on the map in a way few other films have done before. ” Outtake mag \n\n\n6.9 IMDB \n“Saoirse Ronan brings a quiet defiance to this elegant study of addiction” The BFI
URL:http://www.sparctheatre.co.uk/event/film-the-outrun-15/
CATEGORIES:Film
ATTACH;FMTTYPE=image/jpeg:http://www.sparctheatre.co.uk/wp/wp-content/uploads/2024/12/The-Outrun-2.jpg
END:VEVENT
END:VCALENDAR