BEGIN:VCALENDAR
VERSION:2.0
PRODID:-//SpArC Theatre - ECPv6.5.0//NONSGML v1.0//EN
CALSCALE:GREGORIAN
METHOD:PUBLISH
X-WR-CALNAME:SpArC Theatre
X-ORIGINAL-URL:http://www.sparctheatre.co.uk
X-WR-CALDESC:Events for SpArC Theatre
REFRESH-INTERVAL;VALUE=DURATION:PT1H
X-Robots-Tag:noindex
X-PUBLISHED-TTL:PT1H
BEGIN:VTIMEZONE
TZID:Europe/London
BEGIN:DAYLIGHT
TZOFFSETFROM:+0000
TZOFFSETTO:+0100
TZNAME:BST
DTSTART:20250330T010000
END:DAYLIGHT
BEGIN:STANDARD
TZOFFSETFROM:+0100
TZOFFSETTO:+0000
TZNAME:GMT
DTSTART:20251026T010000
END:STANDARD
END:VTIMEZONE
BEGIN:VEVENT
DTSTART;TZID=Europe/London:20250201T163000
DTEND;TZID=Europe/London:20250201T181000
DTSTAMP:20260419T191519
CREATED:20241217T110245Z
LAST-MODIFIED:20241217T164012Z
UID:5745-1738427400-1738433400@www.sparctheatre.co.uk
SUMMARY:FILM:The Wild Robot (U)
DESCRIPTION:8.2 IMDB  ‘Emotional Connection and Cinematic Craftsmanship’ \nAfter a shipwreck\, an intelligent robot called Roz is stranded on an uninhabited island. To survive the harsh environment\, Roz bonds with the island’s animals and cares for an orphaned baby goose. \n \n 
URL:http://www.sparctheatre.co.uk/event/filmthe-wild-robot-u/
LOCATION:SpArC Theatre
CATEGORIES:Film
ATTACH;FMTTYPE=image/jpeg:http://www.sparctheatre.co.uk/wp/wp-content/uploads/2024/12/wild-robot.jpg
END:VEVENT
BEGIN:VEVENT
DTSTART;TZID=Europe/London:20250225T140000
DTEND;TZID=Europe/London:20250225T155000
DTSTAMP:20260419T191519
CREATED:20241105T150043Z
LAST-MODIFIED:20241105T154633Z
UID:5706-1740492000-1740498600@www.sparctheatre.co.uk
SUMMARY:Afternoon Film: Freud's Last Session (12A)
DESCRIPTION:6.1 IMDB \nPsychoanalyst Sigmund Freud invites professor C.S. Lewis to debate the existence of God\, Freud’s unique relationship with his daughter\, and Lewis’ unconventional relationship with his best friend’s mother. \n“Director Matthew Brown indulges an intellectual fantasy… imagining a meeting between C.S. Lewis and Sigmund Freud at the dying neurologist’s London home”. Variety \n“Anthony Hopkins is impeccable. The 86-year-old star is sublime as the father of psychoanalysis in this fictional story of an existential conversation between Freud and CS Lewis” The Times \n‘Freud’s Last Session’ Review: Anthony Hopkins Slips Easily Into Sigmund’s Skin in Talky Two-Hander \nStarring Anthony Hopkins\, Matthew Goode\, Liv Lisa Fries
URL:http://www.sparctheatre.co.uk/event/afternoon-film-freuds-last-session-12a/
LOCATION:SpArC Theatre
CATEGORIES:Film
ATTACH;FMTTYPE=image/jpeg:http://www.sparctheatre.co.uk/wp/wp-content/uploads/2024/11/Freids-Last-session-1.jpg
END:VEVENT
BEGIN:VEVENT
DTSTART;TZID=Europe/London:20250227T190000
DTEND;TZID=Europe/London:20250227T204000
DTSTAMP:20260419T191519
CREATED:20241217T083616Z
LAST-MODIFIED:20241217T083616Z
UID:5735-1740682800-1740688800@www.sparctheatre.co.uk
SUMMARY:FILM: The Critic (15)
DESCRIPTION:” A deliciously waspish Ian McKellen ” The Guardian \n6.0 IMDB \n\n\n\nDeliciously dark and sharp-witted thriller set in 1930s London ‘theatreland’ featuring an all-star cast including Ian McKellen\, Gemma Arterton\, Mark Strong\, Ben Barnes\, Alfred Enoch\, Romola Garai and Lesley Manville. \nWhen the most feared and vicious theatre critic in town Jimmy Erskine (McKellen)\, finds himself suddenly in the crosshairs of the Daily Chronicle’s new owner David Brooke (Strong)\, he strikes a sinister Faustian pact with struggling actress Nina Land (Arterton) who is desperate to win his favour. \n\nStarring Romola Garai\, Alfred Enoch\, Ben Barnes\, Lesley Manville\, Ian McKellen\, Gemma Arterton\, Mark Strong
URL:http://www.sparctheatre.co.uk/event/film-the-critic-15/
LOCATION:SpArC Theatre
CATEGORIES:Film
ATTACH;FMTTYPE=image/jpeg:http://www.sparctheatre.co.uk/wp/wp-content/uploads/2024/12/the-critic-2.jpg
END:VEVENT
END:VCALENDAR