BEGIN:VCALENDAR
VERSION:2.0
PRODID:-//SpArC Theatre - ECPv6.5.0//NONSGML v1.0//EN
CALSCALE:GREGORIAN
METHOD:PUBLISH
X-WR-CALNAME:SpArC Theatre
X-ORIGINAL-URL:http://www.sparctheatre.co.uk
X-WR-CALDESC:Events for SpArC Theatre
REFRESH-INTERVAL;VALUE=DURATION:PT1H
X-Robots-Tag:noindex
X-PUBLISHED-TTL:PT1H
BEGIN:VTIMEZONE
TZID:Europe/London
BEGIN:DAYLIGHT
TZOFFSETFROM:+0000
TZOFFSETTO:+0100
TZNAME:BST
DTSTART:20250330T010000
END:DAYLIGHT
BEGIN:STANDARD
TZOFFSETFROM:+0100
TZOFFSETTO:+0000
TZNAME:GMT
DTSTART:20251026T010000
END:STANDARD
END:VTIMEZONE
BEGIN:VEVENT
DTSTART;TZID=Europe/London:20250508T190000
DTEND;TZID=Europe/London:20250508T212000
DTSTAMP:20260425T184711
CREATED:20250310T154658Z
LAST-MODIFIED:20250310T154658Z
UID:5792-1746730800-1746739200@www.sparctheatre.co.uk
SUMMARY:FILM: A Complete Unknown (12A)
DESCRIPTION:  \n \n7.4 IMDB\n★★★★” Timothée Chalamet radiates charisma in evocative Dylan biopic” The Guardian \n“Timothée Chalamet shines as a brusque and brattish Bob Dylan” The FT \nTimothée Chalamet stars and sings as Bob Dylan in James Mangold’s A COMPLETE UNKNOWN\, the electric true story behind the rise of one of the most iconic singer.  In 1961\, an unknown 19-year-old Bob Dylan arrives in New York City with his guitar and forges relationships with musical icons on his meteoric rise.
URL:http://www.sparctheatre.co.uk/event/film-a-complete-unknown-12a/
LOCATION:SpArC Theatre
CATEGORIES:Film,Music
ATTACH;FMTTYPE=image/jpeg:http://www.sparctheatre.co.uk/wp/wp-content/uploads/2025/03/Bob-Dylan-2-scaled.jpg
END:VEVENT
BEGIN:VEVENT
DTSTART;TZID=Europe/London:20250515T190000
DTEND;TZID=Europe/London:20250515T204000
DTSTAMP:20260425T184711
CREATED:20250211T160200Z
LAST-MODIFIED:20250528T083352Z
UID:5786-1747335600-1747341600@www.sparctheatre.co.uk
SUMMARY:FILM: I'll Push You
DESCRIPTION:Part of Bishop’s Castle Walking Festival  Celebrating 25 years! \n8.4 IMDB \n★★★★★ “It’s beautifully shot and inspirational.” Rotten Tomatoes \nIt all started with three little words. I’ll Push You is an up-close and personal look into the dynamics of a life-long friendship between of two best friends – Justin Skeesuck and Patrick Gray – as they travel across El Camino de Santiago in Northern Spain. This 2017 feature-length documentary covers the  34-day\, 500-mile hike across mountains\, deserts\, hills\, and valleys.
URL:http://www.sparctheatre.co.uk/event/film-ill-push-you/
LOCATION:SpArC Theatre
CATEGORIES:Film
ATTACH;FMTTYPE=image/jpeg:http://www.sparctheatre.co.uk/wp/wp-content/uploads/2025/02/Ill-Push-YOu-.jpg
END:VEVENT
BEGIN:VEVENT
DTSTART;TZID=Europe/London:20250520T140000
DTEND;TZID=Europe/London:20250520T153000
DTSTAMP:20260425T184711
CREATED:20250317T154328Z
LAST-MODIFIED:20250317T154328Z
UID:5812-1747749600-1747755000@www.sparctheatre.co.uk
SUMMARY:Afternoon Film: Oh My Goodness (Juste Ciel!)
DESCRIPTION:Oh My Goodness! (Juste Ciel!)\nLaurent Tirard’s hilarious comedy sees the eccentric sisters of the Convent of St. Benedict set out to save the local nursing home by entering a major bicycle race to win the cash prize…\nWhen the local nursing home finds itself in dire straits and in danger of falling to pieces\, it’s down to Mother Veronique (Valérie Bonneton) and the four eccentric sisters of the convent of St. Benedict to find a way to help. \nSpotting a poster for a bike race with a €25\,000 cash prize (and the incentive of a trip to the Vatican for the winner!)\, the sisters might just have their answer. The only drawbacks are that they are terrible cyclists\, and their rival convent\, led by Mother Veronique’s childhood nemesis Mother Josephine (Sidse Babett Knudsen)\, have their own plans for the prize money – and just a little more experience… \nBut God works in mysterious ways! \nFun and frothy\, Laurent Tirard’s hilariously absurd comedy will have you rolling in the aisles\, and the stunning landscapes of France’s Jura region provide a beautiful backdrop too! \n“Silly French comedy!” \nin French with Subtitles \nSupported by the Friends of Bishop’s Castle Community\, Care Home and Hospital.\nTea and biscuits £1\,\nNo stairs\, tables  & chairs\,\nHearing loop\,\nFree Dial–a-ride bus service from Bishops Castle and Lydbury North please phone 01588 638350\nAll Tickets £4 Accompanying Carers FREE
URL:http://www.sparctheatre.co.uk/event/afternoon-film-oh-my-goodness-juste-ciel/
LOCATION:SpArC Theatre
CATEGORIES:Comedy,Film
ATTACH;FMTTYPE=image/jpeg:http://www.sparctheatre.co.uk/wp/wp-content/uploads/2025/03/oh-my-Goodness-.jpg
END:VEVENT
BEGIN:VEVENT
DTSTART;TZID=Europe/London:20250530T140000
DTEND;TZID=Europe/London:20250530T153000
DTSTAMP:20260425T184711
CREATED:20250331T102037Z
LAST-MODIFIED:20250331T102037Z
UID:5831-1748613600-1748619000@www.sparctheatre.co.uk
SUMMARY:FAMILY FILM: DOG MAN (U)
DESCRIPTION:★★★★ “The beloved comic book character makes a gloriously funny big screen debut. D​av Pilkey’s half-dog\, half-cop Captain Underpants spin-off is now a ​s​uperb animation with cross-generational appeal.” The Guardian\nDog Man\, half dog and half man\, he is sworn to protect and serve as he doggedly pursues the feline supervillain Petey the Cat. \n★★★★”Surprisingly good kid movie for the whole fam! My boys (ages 6 and 8) loved this movie and I really enjoyed it too! The visuals move fast with a comic book feel and there are lots of little laughs throughout.” Common Sense Media  \n“Dog Man is half human\, half dog\, and all hero cop. He must protect his town from Petey (Pete Davidson)\, the “evilest cat in the world” – but unfortunately for Dog Man\, the felonious feline is full of bright ideas to cause havoc…” Empire
URL:http://www.sparctheatre.co.uk/event/family-film-dog-man-u/
LOCATION:SpArC Theatre
CATEGORIES:Comedy,Film
ATTACH;FMTTYPE=image/jpeg:http://www.sparctheatre.co.uk/wp/wp-content/uploads/2025/03/Dogman-2-.jpg
END:VEVENT
END:VCALENDAR