BEGIN:VCALENDAR
VERSION:2.0
PRODID:-//SpArC Theatre - ECPv6.5.0//NONSGML v1.0//EN
CALSCALE:GREGORIAN
METHOD:PUBLISH
X-ORIGINAL-URL:http://www.sparctheatre.co.uk
X-WR-CALDESC:Events for SpArC Theatre
REFRESH-INTERVAL;VALUE=DURATION:PT1H
X-Robots-Tag:noindex
X-PUBLISHED-TTL:PT1H
BEGIN:VTIMEZONE
TZID:Europe/London
BEGIN:DAYLIGHT
TZOFFSETFROM:+0000
TZOFFSETTO:+0100
TZNAME:BST
DTSTART:20260329T010000
END:DAYLIGHT
BEGIN:STANDARD
TZOFFSETFROM:+0100
TZOFFSETTO:+0000
TZNAME:GMT
DTSTART:20261025T010000
END:STANDARD
END:VTIMEZONE
BEGIN:VEVENT
DTSTART;TZID=Europe/London:20260315T140000
DTEND;TZID=Europe/London:20260315T160000
DTSTAMP:20260425T160436
CREATED:20251215T115757Z
LAST-MODIFIED:20260315T122716Z
UID:6076-1773583200-1773590400@www.sparctheatre.co.uk
SUMMARY:FILM: Deliver Me From Nowhere (12A)
DESCRIPTION:Tickets still available please come down to the theatre and pay on the door- Thanks \n  \n \nBruce Springsteen’s journey :  On the cusp of global superstardom\, crafting his 1982 album Nebraska\, which emerged as he recorded Born in the USA with the E Street Band as he struggles to reconcile the pressures of success with the ghosts of his past.
URL:http://www.sparctheatre.co.uk/event/film-deliver-me-from-nowhere-12a/
LOCATION:SpArC Theatre
CATEGORIES:Film,Music
ATTACH;FMTTYPE=image/jpeg:http://www.sparctheatre.co.uk/wp/wp-content/uploads/2025/12/Bruce-1.jpg
END:VEVENT
BEGIN:VEVENT
DTSTART;TZID=Europe/London:20260317T140000
DTEND;TZID=Europe/London:20260317T155000
DTSTAMP:20260425T160436
CREATED:20250811T100553Z
LAST-MODIFIED:20251215T120454Z
UID:5929-1773756000-1773762600@www.sparctheatre.co.uk
SUMMARY:Afternoon Film: Save the Cinema (12A)
DESCRIPTION:Based on  true story: A Welsh hairdresser starts a campaign With the help of a local politician\, they approach Steven Spielberg with the idea to premiere Jurassic Park in a bid to save the cinema. \n” 6.5  a moving story of hairdresser and theatre lover\, Liz Evans\, who campaigns in 1993 to save the ‘Lyric’ from closing down.” IMDB \nTickets £4 Carers FREE \nSupported by  Arts alive & the Friends of Bishop’s Castle Community\, Care Home and Hospital. \nTea & Biscuits £1 Accessible Cabaret seating/no steps/ hearing loop/ /local Free Bus available
URL:http://www.sparctheatre.co.uk/event/afternoon-film-penguin-lessons12a/
LOCATION:SpArC Theatre
CATEGORIES:Community,Film
ATTACH;FMTTYPE=image/jpeg:http://www.sparctheatre.co.uk/wp/wp-content/uploads/2025/08/Save-the-cinema.jpg
END:VEVENT
BEGIN:VEVENT
DTSTART;TZID=Europe/London:20260319T190000
DTEND;TZID=Europe/London:20260319T203000
DTSTAMP:20260425T160436
CREATED:20251216T095328Z
LAST-MODIFIED:20260319T091821Z
UID:6090-1773946800-1773952200@www.sparctheatre.co.uk
SUMMARY:FILM: Souleymane’s Story (12A)
DESCRIPTION:There are plenty of tickets left please come down and pay on the door this evening – Online bookings closed. \n  \n \n7.6 IMDB \nA Paris food delivery cyclist and asylum seeker named Souleymane has two days to prepare his story for a make-or-break interview to secure legal residency. \n★★★★ “Abou Sangaré is magnificent in a story that shines light on the enforced invisibility of economic migrants.” The Guardian \nFrench with English Subtitles
URL:http://www.sparctheatre.co.uk/event/film-souleymanes-story-12a/
LOCATION:SpArC Theatre
CATEGORIES:Art,Film
ATTACH;FMTTYPE=image/jpeg:http://www.sparctheatre.co.uk/wp/wp-content/uploads/2025/12/souleymane.jpg
END:VEVENT
BEGIN:VEVENT
DTSTART;TZID=Europe/London:20260326T190000
DTEND;TZID=Europe/London:20260326T210000
DTSTAMP:20260425T160436
CREATED:20251215T115412Z
LAST-MODIFIED:20260211T100032Z
UID:6073-1774551600-1774558800@www.sparctheatre.co.uk
SUMMARY:Film: The Choral (15)
DESCRIPTION:Please Note the screening dates has  changed  to Thursday 26th March from the date advertised in the programme due to availability \nRalph Fiennes leads an excellent ensemble in this funny and moving First World War drama  about a Yorkshire  choral society that finds its ranks depleted by beloved writer Alan Bennett.
URL:http://www.sparctheatre.co.uk/event/film-the-choral-15/
LOCATION:SpArC Theatre
CATEGORIES:Film,Music
ATTACH;FMTTYPE=image/jpeg:http://www.sparctheatre.co.uk/wp/wp-content/uploads/2025/12/the-Choral-1.jpg
END:VEVENT
BEGIN:VEVENT
DTSTART;TZID=Europe/London:20260331T171500
DTEND;TZID=Europe/London:20260331T224500
DTSTAMP:20260425T160436
CREATED:20251216T094701Z
LAST-MODIFIED:20260213T165431Z
UID:6087-1774977300-1774997100@www.sparctheatre.co.uk
SUMMARY:ROB: Siegfried ( Wagner) (15)
DESCRIPTION:Live Screening via Satellite \n. \nYes on a Tuesday evening! \nAntonio Pappano conducts\, drawing out the unspoken tensions and ethereal mysticism of Wagner’s dynamic score. \nRaised by a scheming dwarf and unaware of his true family origins\, a young man embarks on an epic journey. Soon\, destiny brings him face-to-face with a shattered sword\, a fearsome dragon and the cursed ring it guards\, and a Valkyrie forced into enchanted slumber… \nMoments of transcendent beauty and heroic triumph sparkle in the third chapter of Wagner’s Ring cycle\, brought to life under Barrie Kosky’s inspired eye following his spectacular Das Rheingold (2023) and Die Walküre (2025). Andreas Schager\, in his much-anticipated debut with The Royal Opera\, stars as Siegfried’s titular hero\, alongside Christopher Maltman’s towering Wanderer\, Peter Hoare’s treacherous Mime and Elisabet Strid’s radiant Brünnhilde. \nDuration  5hrs 45 approx 2 intervals
URL:http://www.sparctheatre.co.uk/event/rob-siegfried-wagner/
LOCATION:SpArC Theatre
CATEGORIES:Art,Film,Music,Opera
ATTACH;FMTTYPE=image/jpeg:http://www.sparctheatre.co.uk/wp/wp-content/uploads/2025/12/Siegfried-Main-Image_Lores-scaled.jpg
END:VEVENT
END:VCALENDAR