BEGIN:VCALENDAR
VERSION:2.0
PRODID:-//SpArC Theatre - ECPv6.5.0//NONSGML v1.0//EN
CALSCALE:GREGORIAN
METHOD:PUBLISH
X-ORIGINAL-URL:http://www.sparctheatre.co.uk
X-WR-CALDESC:Events for SpArC Theatre
REFRESH-INTERVAL;VALUE=DURATION:PT1H
X-Robots-Tag:noindex
X-PUBLISHED-TTL:PT1H
BEGIN:VTIMEZONE
TZID:Europe/London
BEGIN:DAYLIGHT
TZOFFSETFROM:+0000
TZOFFSETTO:+0100
TZNAME:BST
DTSTART:20260329T010000
END:DAYLIGHT
BEGIN:STANDARD
TZOFFSETFROM:+0100
TZOFFSETTO:+0000
TZNAME:GMT
DTSTART:20261025T010000
END:STANDARD
END:VTIMEZONE
BEGIN:VEVENT
DTSTART;TZID=Europe/London:20260509T150000
DTEND;TZID=Europe/London:20260509T164000
DTSTAMP:20260425T160437
CREATED:20260324T121031Z
LAST-MODIFIED:20260324T121031Z
UID:6162-1778338800-1778344800@www.sparctheatre.co.uk
SUMMARY:FAMILY FILM: GROW (PG)
DESCRIPTION:An exuberant comedy tale full of giant pumpkins\, madcap characters\, and a little girl who just might be a pumpkin-growing savant. \nWe will also have The Seed Bank\, Plant sale and Bishop’s Castle Going Wild to encourage and help us with our own growing ! \nGrow is a tale of pumpkins\, sabotage\, and unlikely family bonds. A no-nonsense farmer living in the self-proclaimed ‘Pumpkin Capital of the World’\, takes in her estranged niece Charlie. Charlie decides to enter the local pumpkin growing competition where she and the other pumpkin growers face fierce competition\, sabotage and a genetically engineered rival. As she nurtures her pumpkin ‘Peter’ and watches him grow\, so does her bond with the townsfolk\, farm and her new way of life. \nStarring Golda Rosheuvel\, Nick Frost\, Jeremy Swift \nGrow | Official Trailer | Starring Nick Frost & Golda Rosheuvel
URL:http://www.sparctheatre.co.uk/event/family-film-grow-pg/
LOCATION:SpArC Theatre
CATEGORIES:Comedy,Film
ATTACH;FMTTYPE=image/jpeg:http://www.sparctheatre.co.uk/wp/wp-content/uploads/2026/03/Grow-3.jpg
END:VEVENT
BEGIN:VEVENT
DTSTART;TZID=Europe/London:20260519T140000
DTEND;TZID=Europe/London:20260519T164000
DTSTAMP:20260425T160437
CREATED:20260324T123537Z
LAST-MODIFIED:20260324T123537Z
UID:6166-1779199200-1779208800@www.sparctheatre.co.uk
SUMMARY:Afternoon Film: Dance First (12A)
DESCRIPTION:  \n \n6.0 IMDB \nMany parts of the literary  giant- Samuel Beckett’s\, life: Parisian bon vivant\, World War II Resistance fighter\, Nobel Prize-winning playwright\, philandering husband and recluse. \n\n\n\n“Samuel Beckett’s life given the high gloss Hollywood treatment. Vivid portrait of the great playwright of inertia points up the contrast with his real-life romantic entanglements and daring work for the French resistance.” The Guardian \n\n\n\nStarring Gabriel Byrne\, Aidan Gillen\,  Bronagh Gallagher \, Maxine Peake \nTickets £4 Carers FREE \nSupported by  the Friends of Bishop’s Castle Community\, Care Home and Hospital. \nTea & Biscuits £1 Accessible Cabaret seating/no steps/ hearing loop/ /local Free Bus available \nDance First | Official Trailer | Starring Gabriel Byrne
URL:http://www.sparctheatre.co.uk/event/afternoon-film-dance-first-12a/
LOCATION:SpArC Theatre
CATEGORIES:Film,Theatre
ATTACH;FMTTYPE=image/jpeg:http://www.sparctheatre.co.uk/wp/wp-content/uploads/2026/03/Dance-First-2.jpg
END:VEVENT
BEGIN:VEVENT
DTSTART;TZID=Europe/London:20260521T190000
DTEND;TZID=Europe/London:20260521T203000
DTSTAMP:20260425T160437
CREATED:20260303T164003Z
LAST-MODIFIED:20260303T164003Z
UID:6136-1779390000-1779395400@www.sparctheatre.co.uk
SUMMARY:Exhibition On Screen: Frida Kahlo
DESCRIPTION:Frida Kahlo is a phenomenon. She is arguably the world’s favourite female artist – beloved by young and old. Exhibition on Screen’s award-winning film – first released during covid to a restricted audience – is back by popular demand with an exciting new addition from the blockbuster transatlantic exhibition from Tate Britain and MFA Houston ‘Frida Kahlo: the Making of an Icon’.  Back in the cinemas in May 2026\, one month before the Tate exhibition opens\, allowing audiences to watch both the film and see the show. \n  \nWho was Frida Kahlo? Everyone knows her face but who was the woman behind the bright colours\, the big brows and the floral crowns? Take a journey through the life of a true icon\, discover her art\, and uncover the true story of her rebellious\, passionate and turbulent life. \n  \nMaking use of the latest technology to deliver previously unimaginable quality\, we take an in-depth look at key works throughout her career. Using letters Kahlo wrote to guide us\, this definitive film reveals her deepest emotions and unlocks the secrets and symbolism contained within her art. \n  \nExhibition on Screen’s trademark combination of interviews with those who knew her and world experts\, commentary and a detailed exploration of her art\, combined with new special bonus footage from the 2026 Tate exhibition\, delivers a treasure trove of colour and emotion. This personal and intimate film offers privileged access to her works\, her home\, her studio and highlights the source of her feverish creativity\, her resilience and her unmatched lust for life\, beauty and revolution. \n  \nCreated in close collaboration with world experts and those who knew her. \n  \nAdditional new material from the curators of the groundbreaking new Tate Britain and MFA Houston exhibition. \nOFFICIAL TRAILER | Frida Kahlo (2020)
URL:http://www.sparctheatre.co.uk/event/exhibition-on-screen-frida-kahlo/
LOCATION:SpArC Theatre
CATEGORIES:Art,Film
ATTACH;FMTTYPE=image/jpeg:http://www.sparctheatre.co.uk/wp/wp-content/uploads/2026/03/Frida-Kahlo-Self-Portrait-with-Necklace-of-Thorn-Necklace-and-Hummingbird-1940-Bridgeman-large-scaled.jpg
END:VEVENT
BEGIN:VEVENT
DTSTART;TZID=Europe/London:20260528T190000
DTEND;TZID=Europe/London:20260528T213000
DTSTAMP:20260425T160437
CREATED:20260303T160524Z
LAST-MODIFIED:20260303T160524Z
UID:6133-1779994800-1780003800@www.sparctheatre.co.uk
SUMMARY:NTLIVE: The Playboy of the Western World
DESCRIPTION:The Playboy of the Western World \nby John Millington Synge \nDirected by Caitríona McLaughlin \nNicola Coughlan (Bridgerton) joins Éanna Hardwicke (The Sixth Commandment) and Siobhán McSweeney (Derry Girls) in John Millington Synge’s riveting play of youth and self-discovery. \nPegeen Flaherty’s life is turned upside down when a young man walks into her pub claiming that he’s killed his father. Instead of being shunned\, the killer becomes a local hero and begins to win hearts\, that is until a second man unexpectedly arrives on the scene… \n‘A sumptuous production\, rich in detail\, craft and spectacle’ Guardian\n‘Two of Ireland’s best-loved comic actors go head-to-head’ Independent \n‘A twisty treat’ The i\n‘Nicola Coughlan and Siobhán McSweeney reunite for an Irish classic’ Broadway World \nFilmed live on stage at the National Theatre\, Caitríona McLaughlin directs this darkly funny tale full to the brim with secrets. \nThe Playboy of the Western World | Official Trailer | National Theatre
URL:http://www.sparctheatre.co.uk/event/ntlive-the-playboy-of-the-western-world/
LOCATION:SpArC Theatre
CATEGORIES:Comedy,Film,Theatre
ATTACH;FMTTYPE=image/jpeg:http://www.sparctheatre.co.uk/wp/wp-content/uploads/2026/03/NTL-2026-The-Playboy-of-the-Western-World-Listing-Images-Portrait-874x1240px.jpg
END:VEVENT
END:VCALENDAR