BEGIN:VCALENDAR
VERSION:2.0
PRODID:-//SpArC Theatre - ECPv6.5.0//NONSGML v1.0//EN
CALSCALE:GREGORIAN
METHOD:PUBLISH
X-WR-CALNAME:SpArC Theatre
X-ORIGINAL-URL:http://www.sparctheatre.co.uk
X-WR-CALDESC:Events for SpArC Theatre
REFRESH-INTERVAL;VALUE=DURATION:PT1H
X-Robots-Tag:noindex
X-PUBLISHED-TTL:PT1H
BEGIN:VTIMEZONE
TZID:Europe/London
BEGIN:DAYLIGHT
TZOFFSETFROM:+0000
TZOFFSETTO:+0100
TZNAME:BST
DTSTART:20240331T010000
END:DAYLIGHT
BEGIN:STANDARD
TZOFFSETFROM:+0100
TZOFFSETTO:+0000
TZNAME:GMT
DTSTART:20241027T010000
END:STANDARD
END:VTIMEZONE
BEGIN:VEVENT
DTSTART;TZID=Europe/London:20241003T190000
DTEND;TZID=Europe/London:20241003T210000
DTSTAMP:20260423T120510
CREATED:20240819T081737Z
LAST-MODIFIED:20241029T150025Z
UID:5611-1727982000-1727989200@www.sparctheatre.co.uk
SUMMARY:FILM: Back to Black (15)
DESCRIPTION:  \n \nThe extraordinary story of Amy Winehouse’s early rise to fame and the making of her groundbreaking album\, Back to Black and the tumultuous relationship at the center of it. \n6.3IMDB
URL:http://www.sparctheatre.co.uk/event/film-back-to-black-15/
LOCATION:SpArC Theatre
CATEGORIES:Film,Music
ATTACH;FMTTYPE=image/jpeg:http://www.sparctheatre.co.uk/wp/wp-content/uploads/2024/08/Amy-front.jpg
END:VEVENT
END:VCALENDAR