BEGIN:VCALENDAR
VERSION:2.0
PRODID:-//SpArC Theatre - ECPv6.5.0//NONSGML v1.0//EN
CALSCALE:GREGORIAN
METHOD:PUBLISH
X-WR-CALNAME:SpArC Theatre
X-ORIGINAL-URL:http://www.sparctheatre.co.uk
X-WR-CALDESC:Events for SpArC Theatre
REFRESH-INTERVAL;VALUE=DURATION:PT1H
X-Robots-Tag:noindex
X-PUBLISHED-TTL:PT1H
BEGIN:VTIMEZONE
TZID:Europe/London
BEGIN:DAYLIGHT
TZOFFSETFROM:+0000
TZOFFSETTO:+0100
TZNAME:BST
DTSTART:20240331T010000
END:DAYLIGHT
BEGIN:STANDARD
TZOFFSETFROM:+0100
TZOFFSETTO:+0000
TZNAME:GMT
DTSTART:20241027T010000
END:STANDARD
END:VTIMEZONE
BEGIN:VEVENT
DTSTART;TZID=Europe/London:20241101T190000
DTEND;TZID=Europe/London:20241101T204500
DTSTAMP:20260419T223144
CREATED:20241007T110709Z
LAST-MODIFIED:20241007T111104Z
UID:5673-1730487600-1730493900@www.sparctheatre.co.uk
SUMMARY:FILM: Beetlejuice Beetlejuice (12A)
DESCRIPTION:  \n \n7.0 IMDB\nThree generations of the Deetz family return home to Winter River after an unexpected family tragedy. Still haunted by Beetlejuice\, Lydia’s life soon gets turned upside down when her rebellious teenage daughter discovers a mysterious portal to the afterlife. When someone says Beetlejuice’s name three times\, the mischievous demon gleefully returns to unleash his very own brand of mayhem. \n★★★★  “It’s not every day that a sequel manages to surpass the original. But Tim Burton’s sequel to his 1988 cult classic Beetlejuice Beetlejuice may just manage to do so. Bringing back most of the original’s cast (bar Alec Baldwin and Geena Davis whose ‘presence’ (get it?) is briefly missed but not to the detriment of the film) it’s clear to see that everyone is having fun in this silly follow up.”  KickBackTimes \n“Tim Burton has fun with pleasingly idiosyncratic sequel “.The Guardian
URL:http://www.sparctheatre.co.uk/event/film-beetlejuice-beetlejuice-12a/
LOCATION:SpArC Theatre
CATEGORIES:Comedy,Film
ATTACH;FMTTYPE=image/jpeg:http://www.sparctheatre.co.uk/wp/wp-content/uploads/2024/10/Beetlejuice-Beetlejuice-1.jpg
END:VEVENT
END:VCALENDAR