BEGIN:VCALENDAR
VERSION:2.0
PRODID:-//SpArC Theatre - ECPv6.5.0//NONSGML v1.0//EN
CALSCALE:GREGORIAN
METHOD:PUBLISH
X-WR-CALNAME:SpArC Theatre
X-ORIGINAL-URL:http://www.sparctheatre.co.uk
X-WR-CALDESC:Events for SpArC Theatre
REFRESH-INTERVAL;VALUE=DURATION:PT1H
X-Robots-Tag:noindex
X-PUBLISHED-TTL:PT1H
BEGIN:VTIMEZONE
TZID:Europe/London
BEGIN:DAYLIGHT
TZOFFSETFROM:+0000
TZOFFSETTO:+0100
TZNAME:BST
DTSTART:20240331T010000
END:DAYLIGHT
BEGIN:STANDARD
TZOFFSETFROM:+0100
TZOFFSETTO:+0000
TZNAME:GMT
DTSTART:20241027T010000
END:STANDARD
END:VTIMEZONE
BEGIN:VEVENT
DTSTART;TZID=Europe/London:20241107T190000
DTEND;TZID=Europe/London:20241107T211000
DTSTAMP:20260419T223201
CREATED:20240826T141314Z
LAST-MODIFIED:20240924T115032Z
UID:5631-1731006000-1731013800@www.sparctheatre.co.uk
SUMMARY:Film: Fly Me to the Moon (12A)
DESCRIPTION:  \n \nStarring Scarlett Johansson and Channing Tatum\, a sharp\, stylish comedy-drama set against the high-stakes backdrop of NASA’s historic Apollo 11 moon landing. \nMarketing maven Kelly Jones wreaks havoc on launch director Cole Davis’s already difficult task. When the White House deems the mission too important to fail\, the countdown truly begins. \n6.6 IMDB \n“Channing Tatum and Scarlett Johansson lift rocket-powered romcom A Nasa launch director and a marketing whizz spark and squabble in this 1960s-set nostalgia-fest” Financial Times \n★★★★Scarlett Johansson and Channing Tatum ignite  delight in refreshingly witty and touching romcom Fly Me To The Moon about the rumoured fake Moon landing. The Daily Express
URL:http://www.sparctheatre.co.uk/event/film-fly-me-to-the-moon-12a/
LOCATION:SpArC Theatre
CATEGORIES:Comedy,Film
ATTACH;FMTTYPE=image/jpeg:http://www.sparctheatre.co.uk/wp/wp-content/uploads/2024/08/Fly-me-to-the-Moon-2.jpg
END:VEVENT
END:VCALENDAR