BEGIN:VCALENDAR
VERSION:2.0
PRODID:-//SpArC Theatre - ECPv6.5.0//NONSGML v1.0//EN
CALSCALE:GREGORIAN
METHOD:PUBLISH
X-WR-CALNAME:SpArC Theatre
X-ORIGINAL-URL:http://www.sparctheatre.co.uk
X-WR-CALDESC:Events for SpArC Theatre
REFRESH-INTERVAL;VALUE=DURATION:PT1H
X-Robots-Tag:noindex
X-PUBLISHED-TTL:PT1H
BEGIN:VTIMEZONE
TZID:Europe/London
BEGIN:DAYLIGHT
TZOFFSETFROM:+0000
TZOFFSETTO:+0100
TZNAME:BST
DTSTART:20240331T010000
END:DAYLIGHT
BEGIN:STANDARD
TZOFFSETFROM:+0100
TZOFFSETTO:+0000
TZNAME:GMT
DTSTART:20241027T010000
END:STANDARD
END:VTIMEZONE
BEGIN:VEVENT
DTSTART;TZID=Europe/London:20241126T140000
DTEND;TZID=Europe/London:20241126T154500
DTSTAMP:20260419T220622
CREATED:20240826T142624Z
LAST-MODIFIED:20241120T132440Z
UID:5637-1732629600-1732635900@www.sparctheatre.co.uk
SUMMARY:RESCHEDULED Afternoon Film: Past Lives (12A)
DESCRIPTION:Rescheduled date after cancellation on 19/11/24 due to snow and Ice. \n7.8 IMDB \nTwo deeply connected childhood friends\, Parted when a family emigrates \,are reunited  decades later for one fateful week as they confront destiny\, love and the choices that make a life. \n★★★★★ “A must-see story of lost loves\, childhood crushes and changing identities. This article is more than 1 year old. Celine Song’s feature debut about two people whose lives intertwine again after years apart is delicate and sophisticated\, but also simple and direct.” The Guardian\n★★★★ “A wry\, moving debut from director Celine Song. Three lives are interwoven in this beautifully acted movie” Financial Times \n★★★★ “A gentle drama about first love and thirty something melancholy. Childhood sweethearts reunite\, then reunite again\, in Celine Song’s vaguely autobiographical time-hopping romance\, which nicely avoids easy answers.” The Independent \nPart of Winter Warmers Season so you can get a FREE Cuppa and a snack as well what’s not to like ! \nOpen to All ! \nTickets £4 Carers FREE \nSupported by Arts Alive and  Friends of Bishop’s Castle Community\, Care Home and Hospital \nAccessible Cabaret seating/no steps/ hearing loop/ tea and biscuits £1/local Free Bus available \nFree Dial–a-ride bus service from Bishops Castle and Lydbury North please phone 01588 638350All Tickets £4 Accompanying Carers FREE \n \n 
URL:http://www.sparctheatre.co.uk/event/afternoon-film-past-lives-12a/
LOCATION:SpArC Theatre
CATEGORIES:Film
ATTACH;FMTTYPE=image/jpeg:http://www.sparctheatre.co.uk/wp/wp-content/uploads/2024/08/past-lives-.jpg
END:VEVENT
END:VCALENDAR