BEGIN:VCALENDAR
VERSION:2.0
PRODID:-//SpArC Theatre - ECPv6.5.0//NONSGML v1.0//EN
CALSCALE:GREGORIAN
METHOD:PUBLISH
X-ORIGINAL-URL:http://www.sparctheatre.co.uk
X-WR-CALDESC:Events for SpArC Theatre
REFRESH-INTERVAL;VALUE=DURATION:PT1H
X-Robots-Tag:noindex
X-PUBLISHED-TTL:PT1H
BEGIN:VTIMEZONE
TZID:Europe/London
BEGIN:DAYLIGHT
TZOFFSETFROM:+0000
TZOFFSETTO:+0100
TZNAME:BST
DTSTART:20250330T010000
END:DAYLIGHT
BEGIN:STANDARD
TZOFFSETFROM:+0100
TZOFFSETTO:+0000
TZNAME:GMT
DTSTART:20251026T010000
END:STANDARD
END:VTIMEZONE
BEGIN:VEVENT
DTSTART;TZID=Europe/London:20250309T140000
DTEND;TZID=Europe/London:20250309T154500
DTSTAMP:20260421T114008
CREATED:20250107T100237Z
LAST-MODIFIED:20250210T123121Z
UID:5763-1741528800-1741535100@www.sparctheatre.co.uk
SUMMARY:FILM: Paddington in Peru (PG)
DESCRIPTION:NEW DATE \n \nPaddington returns to Peru to visit his beloved Aunt Lucy\, who now resides at the Home for Retired Bears. With the Brown family in tow\, a thrilling adventure ensues when a mystery plunges them into an unexpected journey. \n\n★★★★”Non-stop fun with surprises aplenty. This time\, it’s not the bear out of place\, but the family\, as Paddington travels back to his ancestral home. The Radio Times
URL:http://www.sparctheatre.co.uk/event/film-paddington-in-peru-pg/
LOCATION:SpArC Theatre
CATEGORIES:Comedy,Film
ATTACH;FMTTYPE=image/jpeg:http://www.sparctheatre.co.uk/wp/wp-content/uploads/2025/01/padds-1-scaled.jpg
END:VEVENT
END:VCALENDAR