BEGIN:VCALENDAR
VERSION:2.0
PRODID:-//SpArC Theatre - ECPv6.5.0//NONSGML v1.0//EN
CALSCALE:GREGORIAN
METHOD:PUBLISH
X-ORIGINAL-URL:http://www.sparctheatre.co.uk
X-WR-CALDESC:Events for SpArC Theatre
REFRESH-INTERVAL;VALUE=DURATION:PT1H
X-Robots-Tag:noindex
X-PUBLISHED-TTL:PT1H
BEGIN:VTIMEZONE
TZID:Europe/London
BEGIN:DAYLIGHT
TZOFFSETFROM:+0000
TZOFFSETTO:+0100
TZNAME:BST
DTSTART:20260329T010000
END:DAYLIGHT
BEGIN:STANDARD
TZOFFSETFROM:+0100
TZOFFSETTO:+0000
TZNAME:GMT
DTSTART:20261025T010000
END:STANDARD
END:VTIMEZONE
BEGIN:VEVENT
DTSTART;TZID=Europe/London:20260618T190000
DTEND;TZID=Europe/London:20260905T204000
DTSTAMP:20260421T180425
CREATED:20260331T105432Z
LAST-MODIFIED:20260331T105432Z
UID:6178-1781809200-1788640800@www.sparctheatre.co.uk
SUMMARY:FILM: The Shepherd and the Bear (15)
DESCRIPTION:7.7 IMDB \n“Entrancing documentary questions the ethics of rewilding. Max Keegan explores both sides of the debate over reintroducing wild bears to the French mountains\, offering a compassionate understanding of a local shepherd’s fear for his livelihood.” The BFI \nAn aging shepherd struggles to find a successor as bears prey on his flock. While\, a teenage boy becomes obsessed with tracking the bears. \n“Two endangered species scrap for survival in the Pyrenees. Farmers oppose the reintroduction of brown bears in Max Keegan’s immersive and beautiful documentary that resists snap judgments.” The Guardian \nThe Shepherd and the Bear – official trailer
URL:http://www.sparctheatre.co.uk/event/film-the-shepherd-and-the-bear-15/
LOCATION:SpArC Theatre
CATEGORIES:Film
ATTACH;FMTTYPE=image/jpeg:http://www.sparctheatre.co.uk/wp/wp-content/uploads/2026/03/the-shepherd-and-the-bear-1.jpg
END:VEVENT
BEGIN:VEVENT
DTSTART;TZID=Europe/London:20260716T190000
DTEND;TZID=Europe/London:20260716T203000
DTSTAMP:20260421T180425
CREATED:20260331T110231Z
LAST-MODIFIED:20260331T110231Z
UID:6181-1784228400-1784233800@www.sparctheatre.co.uk
SUMMARY:Documentary Film: Our Land
DESCRIPTION:TICKETS ON SALE SOON \nOur Land seamlessly juxtaposes the two sides of the debate around our access to nature\, giving voice to the different perspectives: those fighting for greater access to the countryside and the landowners who claim to be stewards of the land. Blending history with an eye on the future\, Our Land charts the conflict\, exploring the complex issues of access\, custodianship and conservation. Articulately presenting arguments from both sides\, the film challenges age-old beliefs around property that have shaped our relationship with the land for over a thousand years. And as the battle for nature continues the film asks the vital question\, who truly has the right to roam? \n6.6 IMDB : A journey over the walls that divide us\, to explore the age-old debate of land and power\, amid the fight for greater access to nature. \nOur Land Trailer
URL:http://www.sparctheatre.co.uk/event/documentary-film-our-land/
LOCATION:SpArC Theatre
CATEGORIES:Film
ATTACH;FMTTYPE=image/jpeg:http://www.sparctheatre.co.uk/wp/wp-content/uploads/2026/03/Our-Land-1.jpg
END:VEVENT
BEGIN:VEVENT
DTSTART;TZID=Europe/London:20260721T140000
DTEND;TZID=Europe/London:20260721T154500
DTSTAMP:20260421T180425
CREATED:20260331T112727Z
LAST-MODIFIED:20260331T112727Z
UID:6188-1784642400-1784648700@www.sparctheatre.co.uk
SUMMARY:Afternoon Film: Kangaroo (PG)
DESCRIPTION:  \n \n6.5IMDB \nHeart-warming family comedy about ex TV personality\, Chris Masterman\, who becomes stranded in an Outback town outside Alice Springs. There\, he teams up with 12-year-old Indigenous girl Charlie. The pair form an unlikely friendship and work together to rescue and rehabilitate orphaned joeys in the remote but stunning Outback community – an endeavour that proves to be life-changing for them both. \nSupported by the Friends of Bishop’s Castle Community\, Care Home and Hospital.\nTea and biscuits £1\,\nNo stairs\, tables  & chairs\,\nHearing loop\,\nFree Dial–a-ride bus service from Bishops Castle and Lydbury North please phone 01588 638350\nAll Tickets £4 Accompanying Carers FREE \nKANGAROO | Official Trailer | STUDIOCANAL
URL:http://www.sparctheatre.co.uk/event/afternoon-film-kangaroo-pg/
LOCATION:SpArC Theatre
CATEGORIES:Comedy,Film
ATTACH;FMTTYPE=image/jpeg:http://www.sparctheatre.co.uk/wp/wp-content/uploads/2026/03/Kangaroo-1.jpg
END:VEVENT
END:VCALENDAR