BEGIN:VCALENDAR
VERSION:2.0
PRODID:-//SpArC Theatre - ECPv6.5.0//NONSGML v1.0//EN
CALSCALE:GREGORIAN
METHOD:PUBLISH
X-WR-CALNAME:SpArC Theatre
X-ORIGINAL-URL:http://www.sparctheatre.co.uk
X-WR-CALDESC:Events for SpArC Theatre
REFRESH-INTERVAL;VALUE=DURATION:PT1H
X-Robots-Tag:noindex
X-PUBLISHED-TTL:PT1H
BEGIN:VTIMEZONE
TZID:Europe/London
BEGIN:DAYLIGHT
TZOFFSETFROM:+0000
TZOFFSETTO:+0100
TZNAME:BST
DTSTART:20260329T010000
END:DAYLIGHT
BEGIN:STANDARD
TZOFFSETFROM:+0100
TZOFFSETTO:+0000
TZNAME:GMT
DTSTART:20261025T010000
END:STANDARD
END:VTIMEZONE
BEGIN:VEVENT
DTSTART;TZID=Europe/London:20260219T190000
DTEND;TZID=Europe/London:20260219T210000
DTSTAMP:20260421T194248
CREATED:20251215T104830Z
LAST-MODIFIED:20251215T105350Z
UID:6058-1771527600-1771534800@www.sparctheatre.co.uk
SUMMARY:An Evening of Film\, Words and Music in Appreciation of the Apple
DESCRIPTION:An evening in appreciation of the apple : \nJoin us \,with Long Mynd Cider and the Poetry Pharmacy to celebrate this much loved fruit. \nLive readings \, Poems\, song and cider drinking  followed by a screening of: \nThe orchard of England: This heritage film brings together a wide-ranging and eccentric cast – farmers\, Travellers\, former apple-pickers\, clergymen\, wassailers\, cider makers\, fruit sellers – to explore the deep relationship between the people of Herefordshire its historic crop. \n \n 
URL:http://www.sparctheatre.co.uk/event/an-evening-in-appreciation-of-the-apple/
LOCATION:SpArC Theatre
CATEGORIES:Community,Film,Music,Theatre,Workshop
ATTACH;FMTTYPE=image/jpeg:http://www.sparctheatre.co.uk/wp/wp-content/uploads/2025/12/Orchard-of-England-1.jpg
END:VEVENT
BEGIN:VEVENT
DTSTART;TZID=Europe/London:20260220T130000
DTEND;TZID=Europe/London:20260220T150000
DTSTAMP:20260421T194248
CREATED:20240122T153419Z
LAST-MODIFIED:20251215T104315Z
UID:5039-1771592400-1771599600@www.sparctheatre.co.uk
SUMMARY:SCRAPTASTIC WORKSHOP
DESCRIPTION:FREE \nFriday 20 February 1-3pm Bishop’s Castle Arts festival  -SpArC  Bishop’s Castle \nScraptastic workshop \nCome and get creative- load of recycled materials to make whatever you can dream up. \nJust Turn up and Make what you want \nUnstructured scrap making session. \nLoads of recycled materials to choose from! \nAll Welcome \nChildren under 9 must be accompanied by a willing helper. \nFREE with donations to Bishops Castle Arts Festival
URL:http://www.sparctheatre.co.uk/event/scraptastic-workshop-2/
LOCATION:SpArC Theatre
CATEGORIES:Art,Workshop
ATTACH;FMTTYPE=image/jpeg:http://www.sparctheatre.co.uk/wp/wp-content/uploads/2024/01/Scrap-25-2.jpg
END:VEVENT
BEGIN:VEVENT
DTSTART;TZID=Europe/London:20260221T193000
DTEND;TZID=Europe/London:20260221T220000
DTSTAMP:20260421T194248
CREATED:20251215T110535Z
LAST-MODIFIED:20260126T170843Z
UID:6064-1771702200-1771711200@www.sparctheatre.co.uk
SUMMARY:Arts Festival Ceilidh w/ This Way Up & Caller Jane Roberts
DESCRIPTION:  \n \nThis Way Up! are one of Shropshire’s own foremost Ceilidh bands with a big sound and unrivalled reputation for high energy. They are a multi instrumental 5 piece band\, playing guitar\, bass\, melodian\, sax\, whistle\, flute\, banjo\, mandolin and percussion with expert  Caller Jane Roberts . Join us for music and dancing ! \nSaturday 21st February 7.30pm Bishop’s Castle Arts festival ( \n  \nJoin us for a wonderful evening of music and dancing ! \nAdult £12 Child £3
URL:http://www.sparctheatre.co.uk/event/arts-festival-ceilidh-with-this-way-up/
LOCATION:SpArC Theatre
CATEGORIES:Community,Music,Workshop
ATTACH;FMTTYPE=image/jpeg:http://www.sparctheatre.co.uk/wp/wp-content/uploads/2025/12/THis-way-up-1.jpg
END:VEVENT
END:VCALENDAR