BEGIN:VCALENDAR
VERSION:2.0
PRODID:-//SpArC Theatre - ECPv6.5.0//NONSGML v1.0//EN
CALSCALE:GREGORIAN
METHOD:PUBLISH
X-WR-CALNAME:SpArC Theatre
X-ORIGINAL-URL:http://www.sparctheatre.co.uk
X-WR-CALDESC:Events for SpArC Theatre
REFRESH-INTERVAL;VALUE=DURATION:PT1H
X-Robots-Tag:noindex
X-PUBLISHED-TTL:PT1H
BEGIN:VTIMEZONE
TZID:Europe/London
BEGIN:DAYLIGHT
TZOFFSETFROM:+0000
TZOFFSETTO:+0100
TZNAME:BST
DTSTART:20260329T010000
END:DAYLIGHT
BEGIN:STANDARD
TZOFFSETFROM:+0100
TZOFFSETTO:+0000
TZNAME:GMT
DTSTART:20261025T010000
END:STANDARD
END:VTIMEZONE
BEGIN:VEVENT
DTSTART;TZID=Europe/London:20260219T190000
DTEND;TZID=Europe/London:20260219T210000
DTSTAMP:20260421T211835
CREATED:20251215T104830Z
LAST-MODIFIED:20251215T105350Z
UID:6058-1771527600-1771534800@www.sparctheatre.co.uk
SUMMARY:An Evening of Film\, Words and Music in Appreciation of the Apple
DESCRIPTION:An evening in appreciation of the apple : \nJoin us \,with Long Mynd Cider and the Poetry Pharmacy to celebrate this much loved fruit. \nLive readings \, Poems\, song and cider drinking  followed by a screening of: \nThe orchard of England: This heritage film brings together a wide-ranging and eccentric cast – farmers\, Travellers\, former apple-pickers\, clergymen\, wassailers\, cider makers\, fruit sellers – to explore the deep relationship between the people of Herefordshire its historic crop. \n \n 
URL:http://www.sparctheatre.co.uk/event/an-evening-in-appreciation-of-the-apple/
LOCATION:SpArC Theatre
CATEGORIES:Community,Film,Music,Theatre,Workshop
ATTACH;FMTTYPE=image/jpeg:http://www.sparctheatre.co.uk/wp/wp-content/uploads/2025/12/Orchard-of-England-1.jpg
END:VEVENT
END:VCALENDAR