BEGIN:VCALENDAR
VERSION:2.0
PRODID:-//SpArC Theatre - ECPv6.5.0//NONSGML v1.0//EN
CALSCALE:GREGORIAN
METHOD:PUBLISH
X-ORIGINAL-URL:http://www.sparctheatre.co.uk
X-WR-CALDESC:Events for SpArC Theatre
REFRESH-INTERVAL;VALUE=DURATION:PT1H
X-Robots-Tag:noindex
X-PUBLISHED-TTL:PT1H
BEGIN:VTIMEZONE
TZID:Europe/London
BEGIN:DAYLIGHT
TZOFFSETFROM:+0000
TZOFFSETTO:+0100
TZNAME:BST
DTSTART:20260329T010000
END:DAYLIGHT
BEGIN:STANDARD
TZOFFSETFROM:+0100
TZOFFSETTO:+0000
TZNAME:GMT
DTSTART:20261025T010000
END:STANDARD
END:VTIMEZONE
BEGIN:VEVENT
DTSTART;TZID=Europe/London:20260402T100000
DTEND;TZID=Europe/London:20260402T120000
DTSTAMP:20260421T182210
CREATED:20250522T103259Z
LAST-MODIFIED:20260326T102326Z
UID:5856-1775124000-1775131200@www.sparctheatre.co.uk
SUMMARY:Short Animated Films & Crafty Making Workshop
DESCRIPTION:Spring is Here! \njoin us for a a selection of short animations  then stay  for a spring crafty making session  with Liz and team at SpArC theatre \nAll materials and ideas provided with plenty of freedom to be creative ! \n£3.50 per child or £6 for 2 children. \nAccompanying Adults FREE but please book a place so we know for seating and we would be grateful of a donation on the day if you want to make things too. \nAll ages welcome. Under 7’s must be accompanied. \n10 am -10.10- Arrive \n10.10-10.40- Watch Animation on the big SpArC Cinema Screen \n10.40 -12 Noon  – Making Workshop-  – All materials provided \nThis work shop is a collaboration with FLICKS IN THE STICKS
URL:http://www.sparctheatre.co.uk/event/the-wrong-trousers-film-making-workshop/
LOCATION:SpArC Theatre
CATEGORIES:Art,Comedy,Community,Film,Workshop
ATTACH;FMTTYPE=image/jpeg:http://www.sparctheatre.co.uk/wp/wp-content/uploads/2025/05/Spring-film-and-craft-poster.jpg
END:VEVENT
END:VCALENDAR