BEGIN:VCALENDAR
VERSION:2.0
PRODID:-//SpArC Theatre - ECPv6.5.0//NONSGML v1.0//EN
CALSCALE:GREGORIAN
METHOD:PUBLISH
X-WR-CALNAME:SpArC Theatre
X-ORIGINAL-URL:http://www.sparctheatre.co.uk
X-WR-CALDESC:Events for SpArC Theatre
REFRESH-INTERVAL;VALUE=DURATION:PT1H
X-Robots-Tag:noindex
X-PUBLISHED-TTL:PT1H
BEGIN:VTIMEZONE
TZID:Europe/London
BEGIN:DAYLIGHT
TZOFFSETFROM:+0000
TZOFFSETTO:+0100
TZNAME:BST
DTSTART:20260329T010000
END:DAYLIGHT
BEGIN:STANDARD
TZOFFSETFROM:+0100
TZOFFSETTO:+0000
TZNAME:GMT
DTSTART:20261025T010000
END:STANDARD
END:VTIMEZONE
BEGIN:VEVENT
DTSTART;TZID=Europe/London:20260402T133000
DTEND;TZID=Europe/London:20260402T163000
DTSTAMP:20260421T182031
CREATED:20251114T152930Z
LAST-MODIFIED:20260326T102704Z
UID:6034-1775136600-1775147400@www.sparctheatre.co.uk
SUMMARY:D&D Easter One Shot Game
DESCRIPTION:Enter the World of Dungeons and Dragons\nJoin Us for a special Easter game session!\nSuitable for all levels \n“Always wanted to play D&D but didn’t know how to begin? This “Learn while you Play”   will focus on the three traditional “pillars” of RPGs: combat\, exploration\, and social interaction/roleplaying. \nOfficial D&D Dungeon Master’s (DM) will be your teachers and guides\nThere will be pre-generated characters and the DM  will work with the players to understand the character sheets for the adventure.  For example\, explain what a fearless fighter\, a sneaky Rouge or  even a highborn wizard can bring to the table .  The DM  will walk through combat and skill checks to provide the best experience for the game.” \nParticipants must be Age 11 +
URL:http://www.sparctheatre.co.uk/event/dd-christmas-one-shot-game/
LOCATION:SpArC Theatre
CATEGORIES:Community,Workshop
ATTACH;FMTTYPE=image/jpeg:http://www.sparctheatre.co.uk/wp/wp-content/uploads/2025/11/DD-Easter-2026.jpg
END:VEVENT
END:VCALENDAR