BEGIN:VCALENDAR
VERSION:2.0
PRODID:-//SpArC Theatre - ECPv6.5.0//NONSGML v1.0//EN
CALSCALE:GREGORIAN
METHOD:PUBLISH
X-WR-CALNAME:SpArC Theatre
X-ORIGINAL-URL:http://www.sparctheatre.co.uk
X-WR-CALDESC:Events for SpArC Theatre
REFRESH-INTERVAL;VALUE=DURATION:PT1H
X-Robots-Tag:noindex
X-PUBLISHED-TTL:PT1H
BEGIN:VTIMEZONE
TZID:Europe/London
BEGIN:DAYLIGHT
TZOFFSETFROM:+0000
TZOFFSETTO:+0100
TZNAME:BST
DTSTART:20260329T010000
END:DAYLIGHT
BEGIN:STANDARD
TZOFFSETFROM:+0100
TZOFFSETTO:+0000
TZNAME:GMT
DTSTART:20261025T010000
END:STANDARD
END:VTIMEZONE
BEGIN:VEVENT
DTSTART;TZID=Europe/London:20260530T110000
DTEND;TZID=Europe/London:20260530T123000
DTSTAMP:20260421T152917
CREATED:20260309T145833Z
LAST-MODIFIED:20260309T150402Z
UID:6144-1780138800-1780144200@www.sparctheatre.co.uk
SUMMARY:LIVE FAMILY SHOW : So Unfair
DESCRIPTION:Unfair! \nWelcome to our interactive science demo – with a twist! We need YOU to take on some big challenges – and help us save the day. \nHow can we make things more fair? And what could go wrong if we don’t? \nHelp Daniel Bye change the world\, in an unexpectedly ridiculous adventure involving engineering challenges\, bad dad jokes\, and an extraordinary quantity of molten chocolate. \nPraise for previous shows by the same team: \n“Riveting\, funny and thoughtful” The Guardian “really great children’s theatre” Exeunt \nA brand new show for 7-10 year olds and their grown-ups. Created by Daniel Bye\, Sarah Punshon\, Toni-Dee Paul\, and Matt Powell Featuring engineers from across the UK Zooming in to help you save the day.
URL:http://www.sparctheatre.co.uk/event/live-family-show-so-unfair/
LOCATION:SpArC Theatre
CATEGORIES:Comedy,Community,Theatre,Workshop
ATTACH;FMTTYPE=image/jpeg:http://www.sparctheatre.co.uk/wp/wp-content/uploads/2026/03/So-Unfair.jpg
END:VEVENT
END:VCALENDAR