BEGIN:VCALENDAR
VERSION:2.0
PRODID:-//SpArC Theatre - ECPv6.5.0//NONSGML v1.0//EN
CALSCALE:GREGORIAN
METHOD:PUBLISH
X-ORIGINAL-URL:https://www.sparctheatre.co.uk
X-WR-CALDESC:Events for SpArC Theatre
REFRESH-INTERVAL;VALUE=DURATION:PT1H
X-Robots-Tag:noindex
X-PUBLISHED-TTL:PT1H
BEGIN:VTIMEZONE
TZID:Europe/London
BEGIN:DAYLIGHT
TZOFFSETFROM:+0000
TZOFFSETTO:+0100
TZNAME:BST
DTSTART:20250330T010000
END:DAYLIGHT
BEGIN:STANDARD
TZOFFSETFROM:+0100
TZOFFSETTO:+0000
TZNAME:GMT
DTSTART:20251026T010000
END:STANDARD
END:VTIMEZONE
BEGIN:VEVENT
DTSTART;TZID=Europe/London:20250724T190000
DTEND;TZID=Europe/London:20250724T210000
DTSTAMP:20260423T135325
CREATED:20250331T152552Z
LAST-MODIFIED:20250710T094001Z
UID:5840-1753383600-1753390800@www.sparctheatre.co.uk
SUMMARY:Film: Bridget Jones: Mad About the Boy (15 )
DESCRIPTION:RESCHEDULED DATE THURSDAY 24 JULY 7PM\n \nBridget navigates life as a widow and single mum with the help of her family\, friends\, and former lover\, Daniel ( Hugh Grant). Back to work and on the apps\, she’s pursued by a younger man and maybe – just maybe – her son’s science teache….in this sparkling fourth outing for this loveable mess. \nCast Renée Zellweger\, Hugh Grant\, Emma Thompson\, Colin Firth\, Isla Fisher\, Leo Woodall\, Chiwetel Ejiofor\, Nico Parker\, Shirley Henderson\, Jim Broadbent\, Celia Imrie\, Leila Farzad\, James Callis\, Joanna Scanlan\, Gemma Jones\, Sally Phillips\, Sarah Solemani\, Josette Simon
URL:https://www.sparctheatre.co.uk/event/film-bridget-jones-mad-about-the-boy-15/
LOCATION:SpArC Theatre
CATEGORIES:Comedy,Film
ATTACH;FMTTYPE=image/jpeg:https://www.sparctheatre.co.uk/wp/wp-content/uploads/2025/03/BJones-3.jpg
END:VEVENT
END:VCALENDAR