BEGIN:VCALENDAR
VERSION:2.0
PRODID:-//SpArC Theatre - ECPv6.5.0//NONSGML v1.0//EN
CALSCALE:GREGORIAN
METHOD:PUBLISH
X-WR-CALNAME:SpArC Theatre
X-ORIGINAL-URL:https://www.sparctheatre.co.uk
X-WR-CALDESC:Events for SpArC Theatre
REFRESH-INTERVAL;VALUE=DURATION:PT1H
X-Robots-Tag:noindex
X-PUBLISHED-TTL:PT1H
BEGIN:VTIMEZONE
TZID:Europe/London
BEGIN:DAYLIGHT
TZOFFSETFROM:+0000
TZOFFSETTO:+0100
TZNAME:BST
DTSTART:20250330T010000
END:DAYLIGHT
BEGIN:STANDARD
TZOFFSETFROM:+0100
TZOFFSETTO:+0000
TZNAME:GMT
DTSTART:20251026T010000
END:STANDARD
END:VTIMEZONE
BEGIN:VEVENT
DTSTART;TZID=Europe/London:20250406T140000
DTEND;TZID=Europe/London:20250406T172500
DTSTAMP:20260423T104710
CREATED:20241105T152142Z
LAST-MODIFIED:20241105T152216Z
UID:5711-1743948000-1743960300@www.sparctheatre.co.uk
SUMMARY:ROB: Turandot ( Puccini)
DESCRIPTION:  \nThe Royal Opera TURANDOT [Revival] \nENCORE: Sunday 6 April 2025\, 14:00 BST \nPuccini’s captivating opera of a cold-hearted princess and her mysterious suitor. Featuring the ever-popular ‘Nessun dorma’\, this opera of love and revenge is brought to life in a dazzling production. \n The beautiful but icy Princess Turandot will only marry a man who can correctly answer three riddles. Those who fail are brutally beheaded. But when an unknown prince arrives\, the balance of power in Turandot’s court is forever shaken\, as the mysterious stranger does what no other has been able to. \nRunning time: 205 minutes\, Two intervals \nSung in Italian with subtitles \nCast: PRINCESS TURANDOT Sondra Radvanovsky\, CALAF SeokJong Baek\, LIÙ Anna Princeva\, TIMUR Adam Palka\, PING Hansung Yoo\, PANG Aled Hall\, PONG Michael Gibson\, EMPEROR ALTOUM Paul Hopwood\, MANDARIN Ossian Huskinson \nORCHESTRA Orchestra of the Royal Opera House \nCONCERT MASTER Sergey Levitin\, CHORUS DIRECTOR William Spaulding \nCHORUS Royal Opera Chorus \n DIRECTOR Andrei Șerban\, CONDUCTOR Rafael Payare \nLIBRETTO Giuseppe Adami and Renato Simoni\,  \nMUSIC Giacomo Puccini  \nDESIGNER Sally Jacobs\, LIGHTING DESIGNER F. Mitchell Dana\, CHOREOGRAPHER Kate Flatt\, CHOREOLOGIST Tatiana Novaes Coelho \n  \n  \n  \n 
URL:https://www.sparctheatre.co.uk/event/rob-turandot-puccini/
LOCATION:SpArC Theatre
CATEGORIES:Music,Opera,Theatre
ATTACH;FMTTYPE=image/jpeg:https://www.sparctheatre.co.uk/wp/wp-content/uploads/2024/11/Turandot-PROD-TWO-1146-scaled.jpg
END:VEVENT
BEGIN:VEVENT
DTSTART;TZID=Europe/London:20250429T140000
DTEND;TZID=Europe/London:20250429T160000
DTSTAMP:20260423T104710
CREATED:20250320T141955Z
LAST-MODIFIED:20250320T141955Z
UID:5815-1745935200-1745942400@www.sparctheatre.co.uk
SUMMARY:Afternoon Film: Maria (12A)
DESCRIPTION:Famed opera singer Maria Callas retreats to Paris in the 1970s after a glamorous yet tumultuous life in the public eye. \nAcademy Award winner Angelina Jolie stars as legendary opera singer Maria Callas in director Pablo Larraín’s reimagining of the diva’s final days. \nEntertaining\, magnificent\, the glamour of 70’s Paris-  hear the story of this  iconic woman \nSupported by the Friends of Bishop’s Castle Community\, Care Home and Hospital.\nTea and biscuits £1\,\nNo stairs\, tables  & chairs\,\nHearing loop\,\nFree Dial–a-ride bus service from Bishops Castle and Lydbury North please phone 01588 638350\nAll Tickets £4 Accompanying Carers FREE
URL:https://www.sparctheatre.co.uk/event/afternoon-film-maria-12a/
LOCATION:SpArC Theatre
CATEGORIES:Film,Music,Opera
ATTACH;FMTTYPE=image/jpeg:https://www.sparctheatre.co.uk/wp/wp-content/uploads/2025/03/maria-2.jpg
END:VEVENT
END:VCALENDAR