BEGIN:VCALENDAR
VERSION:2.0
PRODID:-//SpArC Theatre - ECPv6.5.0//NONSGML v1.0//EN
CALSCALE:GREGORIAN
METHOD:PUBLISH
X-WR-CALNAME:SpArC Theatre
X-ORIGINAL-URL:https://www.sparctheatre.co.uk
X-WR-CALDESC:Events for SpArC Theatre
REFRESH-INTERVAL;VALUE=DURATION:PT1H
X-Robots-Tag:noindex
X-PUBLISHED-TTL:PT1H
BEGIN:VTIMEZONE
TZID:Europe/London
BEGIN:DAYLIGHT
TZOFFSETFROM:+0000
TZOFFSETTO:+0100
TZNAME:BST
DTSTART:20250330T010000
END:DAYLIGHT
BEGIN:STANDARD
TZOFFSETFROM:+0100
TZOFFSETTO:+0000
TZNAME:GMT
DTSTART:20251026T010000
END:STANDARD
END:VTIMEZONE
BEGIN:VEVENT
DTSTART;TZID=Europe/London:20250518T140000
DTEND;TZID=Europe/London:20250518T192000
DTSTAMP:20260423T115930
CREATED:20250317T150323Z
LAST-MODIFIED:20250429T125458Z
UID:5806-1747576800-1747596000@www.sparctheatre.co.uk
SUMMARY:The Royal Opera: DIE WALKÜRE
DESCRIPTION:The Royal Opera: DIE WALKÜRE – New Production  \nVia Satellite \nWe will have extra refreshments to keep us going ! \nGods and mortals battle in the second chapter of Wagner’s Ring cycle. Conductor Antonio Pappano and director Barrie Kosky reunite to continue the mythical adventure that began with Das Rheingold in 2023. \n On a stormy night\, fate brings two strangers together\, unleashing a love with the power to end worlds. Meanwhile\, in the realm of the gods\, an epic battle ensues between their ruler Wotan and his rebellious daughter\, Brünnhilde. \nCast: \n WOTAN Christopher Maltman\, BRÜNNHILDE Elisabet Strid\, SIEGLINDE Lise Davidsen\, SIEGMUND Stanislas de Barbeyrac\, HUNDING Soloman Howard\, FRICKA Marina Prudenskaya\, HELMWIGE Maida Hundeling\, ORTLINDE Katie Lowe\, GERHILDE Lee Bisset\, WALTRAUTE Claire Barnett-Jones\, SIEGRUNE Catherine Carby\, ROSSWEISSE Alison Kettlewell\, GRIMGERDE Monika-Evelin Liiv\, SCHWERTLEITE Rhonda Browne \nCreatives: \n DIRECTOR Barrie Kosky\, CONDUCTOR Antonio Pappano\, MUSIC Richard Wagner\, LIBRETTO Richard Wagner\, SET DESIGNER Rufus Didwiszus\, COSTUME DESIGNER Victoria Behr\, LIGHTING DESIGNER Alessandro Carletti \nRunning time 365 minutes \nSung in German with subtitles
URL:https://www.sparctheatre.co.uk/event/the-royal-opera-die-walkure/
LOCATION:SpArC Theatre
CATEGORIES:Music,Opera,Theatre
ATTACH;FMTTYPE=image/jpeg:https://www.sparctheatre.co.uk/wp/wp-content/uploads/2025/03/Die-Walkure-©2024-Sebastian-Nevols-scaled.jpg
END:VEVENT
END:VCALENDAR